BEGIN:VCALENDAR
VERSION:2.0
PRODID:-//MC Vič - ECPv6.15.20//NONSGML v1.0//EN
CALSCALE:GREGORIAN
METHOD:PUBLISH
X-ORIGINAL-URL:https://mc-vic.si
X-WR-CALDESC:Events for MC Vič
REFRESH-INTERVAL;VALUE=DURATION:PT1H
X-Robots-Tag:noindex
X-PUBLISHED-TTL:PT1H
BEGIN:VTIMEZONE
TZID:Europe/Ljubljana
BEGIN:DAYLIGHT
TZOFFSETFROM:+0100
TZOFFSETTO:+0200
TZNAME:CEST
DTSTART:20230326T010000
END:DAYLIGHT
BEGIN:STANDARD
TZOFFSETFROM:+0200
TZOFFSETTO:+0100
TZNAME:CET
DTSTART:20231029T010000
END:STANDARD
BEGIN:DAYLIGHT
TZOFFSETFROM:+0100
TZOFFSETTO:+0200
TZNAME:CEST
DTSTART:20240331T010000
END:DAYLIGHT
BEGIN:STANDARD
TZOFFSETFROM:+0200
TZOFFSETTO:+0100
TZNAME:CET
DTSTART:20241027T010000
END:STANDARD
BEGIN:DAYLIGHT
TZOFFSETFROM:+0100
TZOFFSETTO:+0200
TZNAME:CEST
DTSTART:20250330T010000
END:DAYLIGHT
BEGIN:STANDARD
TZOFFSETFROM:+0200
TZOFFSETTO:+0100
TZNAME:CET
DTSTART:20251026T010000
END:STANDARD
END:VTIMEZONE
BEGIN:VEVENT
DTSTART;TZID=Europe/Ljubljana:20240708T080000
DTEND;TZID=Europe/Ljubljana:20240712T160000
DTSTAMP:20260423T195917
CREATED:20240630T114658Z
LAST-MODIFIED:20240704T115207Z
UID:19383-1720425600-1720800000@mc-vic.si
SUMMARY:iPočitnice v MC Vič
DESCRIPTION:Vabljeni na vznemirljive iPočitnice z Mladinskim centrom Vič! \nSi želite\, da vaši otroci preživijo počitnice polne zabave in učenja? Mladinski center Vič vabi vse otroke\, stare med 9 in 11 let\, na nepozabne iPočitnice! Od 8. do 12. julija bomo vsak dan pripravli razgiban počitniški program\, bogat z informativno tehnološkimi (IT) vsebinami.  \nDopoldneve bomo namenili učenju novih in zanimivih veščin\, popoldne pa bomo preživeli čas v druženju. In da bo vse skupaj še bolj razburljivo\, se bomo en dan odpravili na izlet! \nKaj se bodo ob usposobljenih mentorjih iz MC Vič: \n**Osnov programiranja:** Udeleženci bodo raziskovali svet programiranja\, kjer bodo teorijo povezali s praktičnimi primeri in s tem razvijali logično razmišljanje. \n**3D modeliranja in 3D tiska:** Pri 3D modeliranju bodo otroci s pomočjo digitalnih orodij oblikovali svoje unikatne izdelke\, kar bo spodbudilo njihovo kreativnost in domišljijo. Otroci se bodo seznanili s sestavnimi deli 3D tiskalnika\, se naučili varne uporabe ter kako tiskalnik pripraviti za tiskanje. Nato bodo svoje modele\, zasnovane pri delavnici 3D modeliranja\, tudi natisnili. \n**Grafičnega oblikovanja:** Na delavnici grafičnega oblikovanja bodo udeleženci spoznali osnovna orodja in tehnike\, nato pa bodo sami ustvarili preprosto grafiko\, ki jo bodo kasneje lahko vgravirali v les. \n**Dela z laserskim rezalnikom in graverjem lesa:** Otroci bodo odkrili svet laserskega rezanja in graviranja lesa. Naučili se bodo varne uporabe rezalnika in raziskali postopek graviranja\, pri čemer bodo v les vgravirali grafike\, ki so jih izdelali pri grafičnem oblikovanju. \nPridružite se nam in poskrbite\, da bodo letošnje poletne počitnice za vaše otroke nepozabne! ️✨ \n  \nProgram bo potekal med 9. in 15. uro\, varstvo za otroke pa med 8. in 16. uro. MC Vič bo vsak dan poskrbel tudi za dopoldanski in popoldanski prigrizek.  \n  \nNa voljo je 15 prostih mest. Ob prijavi je potrebno poravnati 20 € kotizacije\, ki jo ob koncu iPočitnic vrnemo nazaj.\nPo prijavi boste v roku enega tedna obveščeni ali ste sprejeti na iPočitnice ali ste bili uvrščeni na čakalno vrsto v primeru zapolnitve mest. \n  \n \n  \n*Projekt sofinancira Ministrstvo za digitalno preobrazbo.  \n#digiSI \nPRIJAVA
URL:https://mc-vic.si/dogodek/ipocitnice-v-mc-vic/
CATEGORIES:dogodki,dogodki za otroke
ATTACH;FMTTYPE=image/png:https://mc-vic.si/wp-content/uploads/2024/05/iPocitnice-v-MC-Vic.png
END:VEVENT
END:VCALENDAR