BEGIN:VCALENDAR
VERSION:2.0
PRODID:-//MC Vič - ECPv6.15.20//NONSGML v1.0//EN
CALSCALE:GREGORIAN
METHOD:PUBLISH
X-WR-CALNAME:MC Vič
X-ORIGINAL-URL:https://mc-vic.si
X-WR-CALDESC:Events for MC Vič
REFRESH-INTERVAL;VALUE=DURATION:PT1H
X-Robots-Tag:noindex
X-PUBLISHED-TTL:PT1H
BEGIN:VTIMEZONE
TZID:Europe/Ljubljana
BEGIN:DAYLIGHT
TZOFFSETFROM:+0100
TZOFFSETTO:+0200
TZNAME:CEST
DTSTART:20180325T010000
END:DAYLIGHT
BEGIN:STANDARD
TZOFFSETFROM:+0200
TZOFFSETTO:+0100
TZNAME:CET
DTSTART:20181028T010000
END:STANDARD
BEGIN:DAYLIGHT
TZOFFSETFROM:+0100
TZOFFSETTO:+0200
TZNAME:CEST
DTSTART:20190331T010000
END:DAYLIGHT
BEGIN:STANDARD
TZOFFSETFROM:+0200
TZOFFSETTO:+0100
TZNAME:CET
DTSTART:20191027T010000
END:STANDARD
BEGIN:DAYLIGHT
TZOFFSETFROM:+0100
TZOFFSETTO:+0200
TZNAME:CEST
DTSTART:20200329T010000
END:DAYLIGHT
BEGIN:STANDARD
TZOFFSETFROM:+0200
TZOFFSETTO:+0100
TZNAME:CET
DTSTART:20201025T010000
END:STANDARD
END:VTIMEZONE
BEGIN:VEVENT
DTSTART;TZID=Europe/Ljubljana:20191216T170000
DTEND;TZID=Europe/Ljubljana:20191216T183000
DTSTAMP:20260422T151044
CREATED:20190903T162707Z
LAST-MODIFIED:20191004T075454Z
UID:12709-1576515600-1576521000@mc-vic.si
SUMMARY:Španske urice za otroke XIII
DESCRIPTION:Španski prostovoljec David bo vsak ponedeljek ob 17h pripravil različne aktivnosti\, skozi katere se bodo lahko otroci naučili šteti\, poimenovati barve\, se predstaviti\, itd. \nAktivnost je primerna za mlajše osnovnošolce. \nPrijavite se lahko na spodnjem obrazcu. \n[wpforms id=”12679″ title=”false” description=”false”]
URL:https://mc-vic.si/dogodek/spanske-urice-za-otroke-xiii/
LOCATION:MC Vič – Igralnica
CATEGORIES:dogodki za otroke
END:VEVENT
BEGIN:VEVENT
DTSTART;TZID=Europe/Ljubljana:20191209T170000
DTEND;TZID=Europe/Ljubljana:20191209T183000
DTSTAMP:20260422T151044
CREATED:20190903T162613Z
LAST-MODIFIED:20191004T075443Z
UID:12707-1575910800-1575916200@mc-vic.si
SUMMARY:Španske urice za otroke XII
DESCRIPTION:Španski prostovoljec David bo vsak ponedeljek ob 17h pripravil različne aktivnosti\, skozi katere se bodo lahko otroci naučili šteti\, poimenovati barve\, se predstaviti\, itd. \nAktivnost je primerna za mlajše osnovnošolce. \nPrijavite se lahko na spodnjem obrazcu. \n[wpforms id=”12679″ title=”false” description=”false”]
URL:https://mc-vic.si/dogodek/spanske-urice-za-otroke-xii/
LOCATION:MC Vič – Igralnica
CATEGORIES:dogodki za otroke
END:VEVENT
BEGIN:VEVENT
DTSTART;TZID=Europe/Ljubljana:20191202T170000
DTEND;TZID=Europe/Ljubljana:20191202T183000
DTSTAMP:20260422T151044
CREATED:20190903T162448Z
LAST-MODIFIED:20191004T075433Z
UID:12705-1575306000-1575311400@mc-vic.si
SUMMARY:Španske urice za otroke XI
DESCRIPTION:Španski prostovoljec David bo vsak ponedeljek ob 17h pripravil različne aktivnosti\, skozi katere se bodo lahko otroci naučili šteti\, poimenovati barve\, se predstaviti\, itd. \nAktivnost je primerna za mlajše osnovnošolce. \nPrijavite se lahko na spodnjem obrazcu. \n[wpforms id=”12679″ title=”false” description=”false”]
URL:https://mc-vic.si/dogodek/spanske-urice-za-otroke-xi/
LOCATION:MC Vič – Igralnica
CATEGORIES:dogodki za otroke
END:VEVENT
BEGIN:VEVENT
DTSTART;TZID=Europe/Ljubljana:20191130T090000
DTEND;TZID=Europe/Ljubljana:20191130T120000
DTSTAMP:20260422T151044
CREATED:20191104T155331Z
LAST-MODIFIED:20191106T181127Z
UID:13091-1575104400-1575115200@mc-vic.si
SUMMARY:Izdelava adventnih venčkov
DESCRIPTION:V soboto\, 30. novembra\, vas vabimo na izdelovanje adventnih venčkov. Izdelovali jih bomo ob strokovni pomoči aranžerk.\nVsak bo lahko svoj izdelek odnesel domov. \n  \n[wpforms id=”13133″]
URL:https://mc-vic.si/dogodek/izdelava-adventnih-venckov-2019/
LOCATION:MC Vič – Igralnica
CATEGORIES:dogodki,dogodki za mlade,dogodki za otroke
ATTACH;FMTTYPE=image/jpeg:https://mc-vic.si/wp-content/uploads/2019-dec-vencki.jpg
ORGANIZER;CN="Mladinski center Vi%C4%8D":MAILTO:mc.vic@nefiks.si
END:VEVENT
BEGIN:VEVENT
DTSTART;TZID=Europe/Ljubljana:20191125T170000
DTEND;TZID=Europe/Ljubljana:20191125T183000
DTSTAMP:20260422T151044
CREATED:20190903T162355Z
LAST-MODIFIED:20191004T075421Z
UID:12703-1574701200-1574706600@mc-vic.si
SUMMARY:Španske urice za otroke X
DESCRIPTION:Španski prostovoljec David bo vsak ponedeljek ob 17h pripravil različne aktivnosti\, skozi katere se bodo lahko otroci naučili šteti\, poimenovati barve\, se predstaviti\, itd. \nAktivnost je primerna za mlajše osnovnošolce. \nPrijavite se lahko na spodnjem obrazcu. \n[wpforms id=”12679″ title=”false” description=”false”]
URL:https://mc-vic.si/dogodek/spanske-urice-za-otroke-x/
LOCATION:MC Vič – Igralnica
CATEGORIES:dogodki za otroke
END:VEVENT
BEGIN:VEVENT
DTSTART;TZID=Europe/Ljubljana:20191120T170000
DTEND;TZID=Europe/Ljubljana:20191120T190000
DTSTAMP:20260422T151044
CREATED:20191104T153348Z
LAST-MODIFIED:20191106T181124Z
UID:13089-1574269200-1574276400@mc-vic.si
SUMMARY:Izdelava novoletnih voščilnic
DESCRIPTION:Na delavnici si boste lahko izdelali čisto svoje novoletne voščilnice in z njimi presenetili svoje prijatelje\, starše in sorodnike. Za mlajše udeležence bodo materiali že pripravljeni\, starejši pa jih boste izrezali in izdelali sami. \n  \n[wpforms id=”13133″]
URL:https://mc-vic.si/dogodek/izdelava-novoletnih-voscilnic-2019-3/
LOCATION:MC Vič – Igralnica
CATEGORIES:dogodki,dogodki za mlade,dogodki za otroke
ATTACH;FMTTYPE=image/jpeg:https://mc-vic.si/wp-content/uploads/2019-dec-izdelava-voscilnic.jpg
ORGANIZER;CN="Mladinski center Vi%C4%8D":MAILTO:mc.vic@nefiks.si
END:VEVENT
BEGIN:VEVENT
DTSTART;TZID=Europe/Ljubljana:20191118T170000
DTEND;TZID=Europe/Ljubljana:20191118T183000
DTSTAMP:20260422T151044
CREATED:20190903T162242Z
LAST-MODIFIED:20191004T075330Z
UID:12701-1574096400-1574101800@mc-vic.si
SUMMARY:Španske urice za otroke IX
DESCRIPTION:Španski prostovoljec David bo vsak ponedeljek ob 17h pripravil različne aktivnosti\, skozi katere se bodo lahko otroci naučili šteti\, poimenovati barve\, se predstaviti\, itd. \nAktivnost je primerna za mlajše osnovnošolce. \nPrijavite se lahko na spodnjem obrazcu. \n[wpforms id=”12679″ title=”false” description=”false”]
URL:https://mc-vic.si/dogodek/spanske-urice-za-otroke-ix/
LOCATION:MC Vič – Igralnica
CATEGORIES:dogodki za otroke
END:VEVENT
BEGIN:VEVENT
DTSTART;TZID=Europe/Ljubljana:20191112T170000
DTEND;TZID=Europe/Ljubljana:20191112T190000
DTSTAMP:20260422T151044
CREATED:20191104T153253Z
LAST-MODIFIED:20191106T181134Z
UID:13086-1573578000-1573585200@mc-vic.si
SUMMARY:Izdelava novoletnih voščilnic
DESCRIPTION:Na delavnici si boste lahko izdelali čisto svoje novoletne voščilnice in z njimi presenetili svoje prijatelje\, starše in sorodnike. Za mlajše udeležence bodo materiali že pripravljeni\, starejši pa jih boste izrezali in izdelali sami. \nČe se ne moreš udeležiti tokratne delavnice\, nas lahko obiščeš še 20. novembra. \n  \n[wpforms id=”13133″]
URL:https://mc-vic.si/dogodek/izdelava-novoletnih-voscilnic-2019-2/
LOCATION:MC Vič – Igralnica
CATEGORIES:dogodki,dogodki za mlade,dogodki za otroke
ATTACH;FMTTYPE=image/jpeg:https://mc-vic.si/wp-content/uploads/2019-dec-izdelava-voscilnic.jpg
ORGANIZER;CN="Mladinski center Vi%C4%8D":MAILTO:mc.vic@nefiks.si
END:VEVENT
BEGIN:VEVENT
DTSTART;TZID=Europe/Ljubljana:20191111T170000
DTEND;TZID=Europe/Ljubljana:20191111T183000
DTSTAMP:20260422T151044
CREATED:20190903T162122Z
LAST-MODIFIED:20191004T075320Z
UID:12699-1573491600-1573497000@mc-vic.si
SUMMARY:Španske urice za otroke VIII
DESCRIPTION:Španski prostovoljec David bo vsak ponedeljek ob 17h pripravil različne aktivnosti\, skozi katere se bodo lahko otroci naučili šteti\, poimenovati barve\, se predstaviti\, itd. \nAktivnost je primerna za mlajše osnovnošolce. \nPrijavite se lahko na spodnjem obrazcu. \n[wpforms id=”12679″ title=”false” description=”false”]
URL:https://mc-vic.si/dogodek/spanske-urice-za-otroke-viii/
LOCATION:MC Vič – Igralnica
CATEGORIES:dogodki za otroke
END:VEVENT
BEGIN:VEVENT
DTSTART;TZID=Europe/Ljubljana:20191107T170000
DTEND;TZID=Europe/Ljubljana:20191107T190000
DTSTAMP:20260422T151044
CREATED:20191104T153137Z
LAST-MODIFIED:20191106T181139Z
UID:13084-1573146000-1573153200@mc-vic.si
SUMMARY:Izdelava novoletnih voščilnic
DESCRIPTION:Na delavnici si boste lahko izdelali čisto svoje novoletne voščilnice in z njimi presenetili svoje prijatelje\, starše in sorodnike. Za mlajše udeležence bodo materiali že pripravljeni\, starejši pa jih boste izrezali in izdelali sami. \nČe se ne moreš udeležiti tokratne delavnice\, nas obišči v MC Vič 12. ali 20. novembra. \n  \n[wpforms id=”13133″]
URL:https://mc-vic.si/dogodek/izdelava-novoletnih-voscilnic-2019-1/
LOCATION:MC Vič – Igralnica
CATEGORIES:dogodki,dogodki za mlade,dogodki za otroke
ATTACH;FMTTYPE=image/jpeg:https://mc-vic.si/wp-content/uploads/2019-dec-izdelava-voscilnic.jpg
ORGANIZER;CN="Mladinski center Vi%C4%8D":MAILTO:mc.vic@nefiks.si
END:VEVENT
BEGIN:VEVENT
DTSTART;TZID=Europe/Ljubljana:20191104T170000
DTEND;TZID=Europe/Ljubljana:20191104T183000
DTSTAMP:20260422T151044
CREATED:20190903T161950Z
LAST-MODIFIED:20191004T075310Z
UID:12697-1572886800-1572892200@mc-vic.si
SUMMARY:Španske urice za otroke VII
DESCRIPTION:Španski prostovoljec David bo vsak ponedeljek ob 17h pripravil različne aktivnosti\, skozi katere se bodo lahko otroci naučili šteti\, poimenovati barve\, se predstaviti\, itd. \nAktivnost je primerna za mlajše osnovnošolce. \nPrijavite se lahko na spodnjem obrazcu. \n[wpforms id=”12679″ title=”false” description=”false”]
URL:https://mc-vic.si/dogodek/spanske-urice-za-otroke-vii/
LOCATION:MC Vič – Igralnica
CATEGORIES:dogodki za otroke
END:VEVENT
BEGIN:VEVENT
DTSTART;TZID=Europe/Ljubljana:20191021T170000
DTEND;TZID=Europe/Ljubljana:20191021T183000
DTSTAMP:20260422T151044
CREATED:20190903T161807Z
LAST-MODIFIED:20191004T075259Z
UID:12695-1571677200-1571682600@mc-vic.si
SUMMARY:Španske urice za otroke VI
DESCRIPTION:Španski prostovoljec David bo vsak ponedeljek ob 17h pripravil različne aktivnosti\, skozi katere se bodo lahko otroci naučili šteti\, poimenovati barve\, se predstaviti\, itd. \nAktivnost je primerna za mlajše osnovnošolce. \nPrijavite se lahko na spodnjem obrazcu. \n[wpforms id=”12679″ title=”false” description=”false”]
URL:https://mc-vic.si/dogodek/spanske-urice-za-otroke-vi/
LOCATION:MC Vič – Igralnica
CATEGORIES:dogodki za otroke
END:VEVENT
BEGIN:VEVENT
DTSTART;TZID=Europe/Ljubljana:20191016T160000
DTEND;TZID=Europe/Ljubljana:20191016T190000
DTSTAMP:20260422T151044
CREATED:20191002T213434Z
LAST-MODIFIED:20191003T140152Z
UID:12857-1571241600-1571252400@mc-vic.si
SUMMARY:Izdelava velikega ČLOVEK NE NE JEZI SE
DESCRIPTION:Iz recikliranih materialov bomo ustvarili veliko igro Človek ne jezi se. \nNajprej bomo osvojili nekaj teorije\, ki nam bo kasneje pomagala pri praktični izdelavi igre\, kasneje pa se bomo še lotili dela in igro izdelali ter preizkusili. \nPrijavi se preko spodnjega obrazca. \n[wpforms id=”12930″]
URL:https://mc-vic.si/dogodek/izdelava-velikega-clovek-ne-ne-jezi-se/
LOCATION:MC Vič – Igralnica
CATEGORIES:dogodki,dogodki za mlade,dogodki za otroke
ATTACH;FMTTYPE=image/jpeg:https://mc-vic.si/wp-content/uploads/cloveknejezise-mojaobcina.si_.jpg
END:VEVENT
BEGIN:VEVENT
DTSTART;TZID=Europe/Ljubljana:20191014T170000
DTEND;TZID=Europe/Ljubljana:20191014T183000
DTSTAMP:20260422T151044
CREATED:20190903T161657Z
LAST-MODIFIED:20191004T075246Z
UID:12692-1571072400-1571077800@mc-vic.si
SUMMARY:Španske urice za otroke V
DESCRIPTION:Španski prostovoljec David bo vsak ponedeljek ob 17h pripravil različne aktivnosti\, skozi katere se bodo lahko otroci naučili šteti\, poimenovati barve\, se predstaviti\, itd. \nAktivnost je primerna za mlajše osnovnošolce. \nPrijavite se lahko na spodnjem obrazcu. \n[wpforms id=”12679″ title=”false” description=”false”]
URL:https://mc-vic.si/dogodek/12692/
LOCATION:MC Vič – Igralnica
CATEGORIES:dogodki za otroke
END:VEVENT
BEGIN:VEVENT
DTSTART;TZID=Europe/Ljubljana:20191010T170000
DTEND;TZID=Europe/Ljubljana:20191010T200000
DTSTAMP:20260422T151044
CREATED:20191002T211908Z
LAST-MODIFIED:20191003T140158Z
UID:12853-1570726800-1570737600@mc-vic.si
SUMMARY:Sladice v lončkih
DESCRIPTION:Priprava sladic v lončkih je enostavna\, hitra in preprosta. \nNa delavnici se bomo naučili\, kako jih lahko na hitro pripravimo in še hitreje pospravimo 🙂 . \nPrijavi se preko spodnjega obrazca. \n[wpforms id=”12930″]
URL:https://mc-vic.si/dogodek/sladice-v-lonckih/
LOCATION:MC Vič – Igralnica
CATEGORIES:dogodki,dogodki za mlade,dogodki za otroke
ATTACH;FMTTYPE=image/jpeg:https://mc-vic.si/wp-content/uploads/sladice-v-kozarcu.jpg
END:VEVENT
BEGIN:VEVENT
DTSTART;TZID=Europe/Ljubljana:20191007T170000
DTEND;TZID=Europe/Ljubljana:20191007T190000
DTSTAMP:20260422T151044
CREATED:20190913T102713Z
LAST-MODIFIED:20191002T133721Z
UID:12786-1570467600-1570474800@mc-vic.si
SUMMARY:Programirajmo ZELENO zgodbo
DESCRIPTION:Razmišljamo ekološko\, usmerjeno in z rešitvijo. Sprva preko kocke\, nato naše rešitve prenašamo v računalnik in oblikujemo zgodbo. Zgodbo o ZELENI deželi\, ki nas uči in nam predaja polno mero idej za ohranjanje narave in zdravega načina življenja. \nUdeleženci delavnice sestavijo skupno oz. ekipno zgodbo\, kjer oblikujejo PLAKAT »zelene zgodbe« računalniško. \n\nProgramirajmo ZELENO zgodbo \nKje: MC Vič igralnica\nKdaj: 7. oktober\, 17.00 – 19.00\nStarostna skupina: 8 – 15 let\nPrijave: preko spodnjega obrazca do 30. septembra \n\nDogodek se bo odvil v sklopu projekta Meet and Code\, cilj dogodka pa je prikazati otrokom in mladim\, kako zabavno je lahko kodiranje in programiranje in kako ju lahko uporabimo za oživljanje idej z računalniško kodo. Otroci in mladi bi se morali naučiti\, kako tehnologija deluje in kako IT vpliva na naše vsakodnevno življenje. Raziskovanje širokega spektra tehnologije in digitalnih tem ter kreativnega kodiranja\, bo spodbudilo razvoj digitalnih veščin\, ki jih otroci in mladi potrebujejo v današnjem svetu. \n  \n\n  \n[wpforms id=”12787″ title=”false” description=”false”]
URL:https://mc-vic.si/dogodek/programirajmo-zeleno-zgodbo/
LOCATION:MC Vič – Igralnica
CATEGORIES:dogodki za otroke
ATTACH;FMTTYPE=image/jpeg:https://mc-vic.si/wp-content/uploads/LEGO.jpg
ORGANIZER;CN="Mladinski center Vi%C4%8D":MAILTO:mc.vic@nefiks.si
END:VEVENT
BEGIN:VEVENT
DTSTART;TZID=Europe/Ljubljana:20191007T170000
DTEND;TZID=Europe/Ljubljana:20191007T183000
DTSTAMP:20260422T151044
CREATED:20190903T161508Z
LAST-MODIFIED:20191004T075215Z
UID:12690-1570467600-1570473000@mc-vic.si
SUMMARY:Španske urice za otroke IV
DESCRIPTION:Španski prostovoljec David bo vsak ponedeljek ob 17h pripravil različne aktivnosti\, skozi katere se bodo lahko otroci naučili šteti\, poimenovati barve\, se predstaviti\, itd. \nAktivnost je primerna za mlajše osnovnošolce. \nPrijavite se lahko na spodnjem obrazcu. \n[wpforms id=”12679″ title=”false” description=”false”]
URL:https://mc-vic.si/dogodek/spanske-urice-za-otroke-iv/
LOCATION:MC Vič – Igralnica
CATEGORIES:dogodki za otroke
END:VEVENT
BEGIN:VEVENT
DTSTART;TZID=Europe/Ljubljana:20190930T170000
DTEND;TZID=Europe/Ljubljana:20190930T183000
DTSTAMP:20260422T151044
CREATED:20190903T161354Z
LAST-MODIFIED:20191004T075203Z
UID:12688-1569862800-1569868200@mc-vic.si
SUMMARY:Španske urice za otroke III
DESCRIPTION:Španski prostovoljec David bo vsak ponedeljek ob 17h pripravil različne aktivnosti\, skozi katere se bodo lahko otroci naučili šteti\, poimenovati barve\, se predstaviti\, itd. \nAktivnost je primerna za mlajše osnovnošolce. \nPrijavite se lahko na spodnjem obrazcu. \n[wpforms id=”12679″ title=”false” description=”false”]
URL:https://mc-vic.si/dogodek/spanske-urice-za-otroke-iii/
LOCATION:MC Vič – Igralnica
CATEGORIES:dogodki za otroke
END:VEVENT
BEGIN:VEVENT
DTSTART;TZID=Europe/Ljubljana:20190925T160000
DTEND;TZID=Europe/Ljubljana:20190925T173000
DTSTAMP:20260422T151044
CREATED:20190913T064018Z
LAST-MODIFIED:20190913T064052Z
UID:12749-1569427200-1569432600@mc-vic.si
SUMMARY:#PrisluhniSpoznajSpremeni
DESCRIPTION:V sodelovanju s slovensko fundacijo za UNICEF bomo pripravili delavnico #PrisluhniSpoznajSpremeni!\, ki je primerna za otroke. Prisluhnili bomo zgodbam otrok beguncev in migrantov. Spoznali bomo njihovo kulturo\, usodo in razloge za migracije. Razbili bomo stereotipe in spremenili svet okoli sebe. \nVeč informacij o projektu najdete na na spletni strani UNICEF. \nPrijave sprejemamo se na spodnjem obrazcu. \n  \n\n  \n[wpforms id=”12746″ title=”false” description=”false”]
URL:https://mc-vic.si/dogodek/prisluhnispoznajspremeni/
LOCATION:MC Vič – Igralnica
CATEGORIES:dogodki za otroke
ORGANIZER;CN="Mladinski center Vi%C4%8D":MAILTO:mc.vic@nefiks.si
END:VEVENT
BEGIN:VEVENT
DTSTART;TZID=Europe/Ljubljana:20190924T160000
DTEND;TZID=Europe/Ljubljana:20190924T190000
DTSTAMP:20260422T151044
CREATED:20190912T221933Z
LAST-MODIFIED:20190924T144047Z
UID:12738-1569340800-1569351600@mc-vic.si
SUMMARY:Peka cupcakesov
DESCRIPTION:Cupcakese bomo sami pripravili\, okrasili in na koncu tudi pospravili :).
URL:https://mc-vic.si/dogodek/peka-cupcakesov/
LOCATION:MC Vič – Igralnica
CATEGORIES:dogodki za otroke
ATTACH;FMTTYPE=image/jpeg:https://mc-vic.si/wp-content/uploads/dogodek-cupcakes.jpg
END:VEVENT
BEGIN:VEVENT
DTSTART;TZID=Europe/Ljubljana:20190923T170000
DTEND;TZID=Europe/Ljubljana:20190923T183000
DTSTAMP:20260422T151044
CREATED:20190903T161220Z
LAST-MODIFIED:20191004T075144Z
UID:12686-1569258000-1569263400@mc-vic.si
SUMMARY:Španske urice za otroke II
DESCRIPTION:Španski prostovoljec David bo vsak ponedeljek ob 17h pripravil različne aktivnosti\, skozi katere se bodo lahko otroci naučili šteti\, poimenovati barve\, se predstaviti\, itd. \nAktivnost je primerna za mlajše osnovnošolce.
URL:https://mc-vic.si/dogodek/spanske-urice-za-otroke-ii/
LOCATION:MC Vič – Igralnica
CATEGORIES:dogodki za otroke
END:VEVENT
BEGIN:VEVENT
DTSTART;TZID=Europe/Ljubljana:20190916T170000
DTEND;TZID=Europe/Ljubljana:20190916T183000
DTSTAMP:20260422T151044
CREATED:20190903T161121Z
LAST-MODIFIED:20191004T075124Z
UID:12684-1568653200-1568658600@mc-vic.si
SUMMARY:Španske urice za otroke I
DESCRIPTION:Španski prostovoljec David bo vsak ponedeljek ob 17h pripravil različne aktivnosti\, skozi katere se bodo lahko otroci naučili šteti\, poimenovati barve\, se predstaviti\, itd. \nAktivnost je primerna za mlajše osnovnošolce.
URL:https://mc-vic.si/dogodek/spanske-urice-za-otroke-i/
LOCATION:MC Vič – Igralnica
CATEGORIES:dogodki za otroke
END:VEVENT
BEGIN:VEVENT
DTSTART;TZID=Europe/Ljubljana:20190819T150000
DTEND;TZID=Europe/Ljubljana:20190823T170000
DTSTAMP:20260422T151044
CREATED:20190731T084341Z
LAST-MODIFIED:20190813T075139Z
UID:12627-1566226800-1566579600@mc-vic.si
SUMMARY:Lutkovne urice
DESCRIPTION:Med 19. in 23. avgustom bomo pripravili za otroke zanimive lutkovne delavnice. \nNa delavnici se boste naučili izdelovati lutke iz različnih materialov za ustvarjanje (papir\, fimo masa\, blago\, les\, karton) ter jim boste določili karakteristične lastnosti\, navade in želje. Z lutkami boste uprizorili predstavo ter jo tudi posneli. Posnetek predstave bomo skupaj tudi zmontirali ter organizirali premierno predvajanje za starše. \nKdaj: od 19. do 23. avgusta\, med 15.00 in 17.00\nKje: MC Vič Igralnica\nKdo: Delavnice so namenjene osnovnošolskim otrokom. Izvajanje bo prilagojeno starostni strukturi skupine. \nObvezne prijave preko spodnjega obrazca: \n[wpforms id=”12591″]
URL:https://mc-vic.si/dogodek/lutkovne-urice/
LOCATION:MC Vič – Igralnica
CATEGORIES:dogodki,dogodki za otroke
ATTACH;FMTTYPE=image/jpeg:https://mc-vic.si/wp-content/uploads/lutke-izrezljane.jpg
ORGANIZER;CN="Mladinski center Vi%C4%8D":MAILTO:mc.vic@nefiks.si
END:VEVENT
BEGIN:VEVENT
DTSTART;TZID=Europe/Ljubljana:20190708T150000
DTEND;TZID=Europe/Ljubljana:20190712T170000
DTSTAMP:20260422T151044
CREATED:20190618T120413Z
LAST-MODIFIED:20190618T120413Z
UID:12526-1562598000-1562950800@mc-vic.si
SUMMARY:Španske urice za otroke
DESCRIPTION:Med 8. in 12. julijem\, med 15h-17h organiziramo v Mladinskem centru Vič Španske urice za otroke (1-9r). Dva španska prostovoljca\, Javi in David\, bosta za otroke pripravila različne aktivnosti\, skozi katere se bodo otroci naučili šteti\, poimenovati barve\, se predstaviti in tudi poiskati skriti zaklad :).\n\nPredhodno znanje ni potrebno\, če pa otroci že znajo kaj španščine\, bo to zanje le dodatna prednost. V primeru\, da bo več udeležencev\, ki že znajo špansko\, se bo skupina razdelila na manjše skupine\, glede na stopnjo znanja jezika.\n\nPrijave in več informacij na mc.vic@nefiks.si.\nZ otroki bosta teden preživela Javi in David\, španska prostovoljca\, ki v Mladinskem centru vič opravljata svojo prostovoljsko službo v okviru programa Evropska solidarnostna enota.\n\nJavi\n\nDavid\n \n\n\nPRILOŽNOST ZA PROSTOVOLJNO DELO\nDa pa za otroke tele urice kljub vsemu ne bi bila prevelika “španska vas”\, vabimo k sodelovanju prostovoljce\, ki bi pomagali pri izvajanju aktivnosti in prostem prevajanju v slovenščino.\nV primeru zanimanja za sodelovanje\, vas prosimo\, da se obrnete na nives.felic@nefiks.si.
URL:https://mc-vic.si/dogodek/spanske-urice-za-otroke/
CATEGORIES:dogodki za otroke
ATTACH;FMTTYPE=image/jpeg:https://mc-vic.si/wp-content/uploads/Spanske-urice-za-otroke-MC-VIC-naslovnica.jpg
END:VEVENT
BEGIN:VEVENT
DTSTART;TZID=Europe/Ljubljana:20190701T080000
DTEND;TZID=Europe/Ljubljana:20190705T170000
DTSTAMP:20260422T151044
CREATED:20190517T081816Z
LAST-MODIFIED:20190517T081816Z
UID:12480-1561968000-1562346000@mc-vic.si
SUMMARY:Imaš moč - oratorij za otroke\, 2. teden
DESCRIPTION:Drugi teden oratorija nas bodo animatorji vsak dan popeljali na izlet! Če bi se nam rad pridružil_a\, se čimprej prijavi na bostjan.horvat@ymail.com\, da ti rezerviramo mesto na avtobusu ;).  \n \nPridi z nami!
URL:https://mc-vic.si/dogodek/imas-moc-oratorij-za-otroke-2-teden/
CATEGORIES:dogodki za otroke
ATTACH;FMTTYPE=image/jpeg:https://mc-vic.si/wp-content/uploads/Peter-Klepec.jpg
END:VEVENT
BEGIN:VEVENT
DTSTART;TZID=Europe/Ljubljana:20190624T090000
DTEND;TZID=Europe/Ljubljana:20190628T153000
DTSTAMP:20260422T151044
CREATED:20190517T080251Z
LAST-MODIFIED:20190517T080251Z
UID:12476-1561366800-1561735800@mc-vic.si
SUMMARY:Imaš moč - oratorij za otroke\, 1. teden
DESCRIPTION:Bilo je v starih časih\, že dolgo je od tega\, ko je živela pod gorami uboga vdova. Ta ni imela nikogar na svetu razen sinčka edinca\, ki so ga klicali za Petra Klepca. Siromašna pa je bila tako\, da ni imela niti pedi zemlje\, njeni sta bili samo borna bajtica in rogata koza. Da se je s sinčkom lahko preživela\, je hodila k sosedom na dnino\, Rogačka pa je dajala mleka.\nMati je delala na njivah\, Peter Klepec pa je pasel kozo. Bil je šibek in droben deček\, rad je imel mater in jo na besedo ubogal. Tudi Rogačka ni bila poredna. Mirno se je pasla: kadar je bilo vroče\, je legla v senco in prežvekovala. \nTe zanima\, kako se zgodba nadaljuje? \nPridruži se nam na oratoriju!\n \nMed 24. in 28. junijem se bomo vsak dan družili in zabavali s Petrom Klepcom\, animatorji in novimi prijatelji! \nPrijava in več informacij: bostjan.horvat@ymail.com
URL:https://mc-vic.si/dogodek/imas-moc-oratorij-za-otroke-1-teden/
CATEGORIES:dogodki za otroke
ATTACH;FMTTYPE=image/jpeg:https://mc-vic.si/wp-content/uploads/Imaš-moč-naslovnica.jpg
END:VEVENT
BEGIN:VEVENT
DTSTART;TZID=Europe/Ljubljana:20190413T100000
DTEND;TZID=Europe/Ljubljana:20190413T120000
DTSTAMP:20260422T151044
CREATED:20190329T163105Z
LAST-MODIFIED:20190411T102013Z
UID:12271-1555149600-1555156800@mc-vic.si
SUMMARY:Etno delavnica - Izdelava tradicionalnih butaric
DESCRIPTION:Mladinski center Vič v sodelovanju z župnijo Vič pripravlja za otroke\, starše\, bratce\, sestrice\, dedke\, babice\, tete in strice ETNO delavnice. \nDelavnice potekajo v prostorih Elizabetine avle. \nObvezne prijave: bostjan.horvat@ymail.com
URL:https://mc-vic.si/dogodek/etno-delavnica-izdelava-tradicionalnih-butaric/
LOCATION:Antonov dom – dvorana\, Tržaška 85\, Ljubljana
CATEGORIES:dogodki,dogodki za mlade,dogodki za otroke
ATTACH;FMTTYPE=image/jpeg:https://mc-vic.si/wp-content/uploads/butarice_vir-RTVSlo.jpg
END:VEVENT
BEGIN:VEVENT
DTSTART;TZID=Europe/Ljubljana:20190410T180000
DTEND;TZID=Europe/Ljubljana:20190410T200000
DTSTAMP:20260422T151044
CREATED:20190329T162110Z
LAST-MODIFIED:20190411T102057Z
UID:12268-1554919200-1554926400@mc-vic.si
SUMMARY:Etno delavnica - Izdelava okraskov iz ličja
DESCRIPTION:Mladinski center Vič v sodelovanju z župnijo Vič pripravlja za otroke\, starše\, bratce\, sestrice\, dedke\, babice\, tete in strice ETNO delavnice.  \n \nDelavnice potekajo v prostorih Elizabetine avle. \nObvezne prijave: bostjan.horvat@ymail.com
URL:https://mc-vic.si/dogodek/etno-delavnica-izdelava-okraskov-iz-licja/
LOCATION:Antonov dom – dvorana\, Tržaška 85\, Ljubljana
CATEGORIES:dogodki,dogodki za mlade,dogodki za otroke
ATTACH;FMTTYPE=image/jpeg:https://mc-vic.si/wp-content/uploads/braid-511032_640.jpg
END:VEVENT
BEGIN:VEVENT
DTSTART;TZID=Europe/Ljubljana:20190406T090000
DTEND;TZID=Europe/Ljubljana:20190406T140000
DTSTAMP:20260422T151044
CREATED:20190405T114210Z
LAST-MODIFIED:20190411T102121Z
UID:12323-1554541200-1554559200@mc-vic.si
SUMMARY:Izberi si kos za nov videz!
DESCRIPTION:Mladinsko središče Vič v sodelovanju z Ekologi brez meja v soboto\, 6. aprila\, prirejajo dogodek Izberi si kos\, za nov videz\, za katerega so rabljena oblačila zbirali kar dva meseca. Oblačila bodo vsem obiskovalcem na voljo brezplačno\, preostanek pa bo po dogodku predan Kraljem ulice\, kjer bodo poskrbeli za njihovo nadaljnjo uporabo.  \n\n \n\nAkcijo v okviru Dan za spremembe – odpravimo diskriminacijo pripravljajo z željo osveščati otroke in mladostnike in širšo lokalno skupnost o pomenu kroženja oblačil in skrbi za okolje ter pomagati mladostnikom preseči prepričanje\, da je za urejen videz nujno potrebno veliko denarja. \nVir: FB Slovenska filantropija
URL:https://mc-vic.si/dogodek/izberi-si-kos-za-nov-videz/
CATEGORIES:dogodki,dogodki za mlade,dogodki za otroke
ATTACH;FMTTYPE=image/jpeg:https://mc-vic.si/wp-content/uploads/MS_vic_kos_za_nov_videz_naslovnica.jpg
END:VEVENT
BEGIN:VEVENT
DTSTART;TZID=Europe/Ljubljana:20190406T090000
DTEND;TZID=Europe/Ljubljana:20190406T130000
DTSTAMP:20260422T151044
CREATED:20190404T125742Z
LAST-MODIFIED:20190411T102132Z
UID:12294-1554541200-1554555600@mc-vic.si
SUMMARY:Čistilna akcija
DESCRIPTION:Četrtna skupnost Vič v okviru akcije Za lepšo Ljubljano vabi na čistilno akcijo\, ki bo v soboto\, 6. aprila 2019\, ob 9. uri. \n \nZbor udeležencev bo pred sedežem ČS Vič na Tbilisijski 22a. \nVabljeni vsi\, ki vam ni vseeno za naše okolje! \nNe pozabite na primerno obutev\, obleko\, zaščitne rokavice in dobro voljo! \nVabljeni! \nVir: www.ljubljana.si
URL:https://mc-vic.si/dogodek/cistilna-akcija/
CATEGORIES:dogodki za mlade,dogodki za otroke
ATTACH;FMTTYPE=image/jpeg:https://mc-vic.si/wp-content/uploads/Narcise-cistilna-akcija.jpg
END:VEVENT
END:VCALENDAR