BEGIN:VCALENDAR
VERSION:2.0
PRODID:-//MC Vič - ECPv6.15.20//NONSGML v1.0//EN
CALSCALE:GREGORIAN
METHOD:PUBLISH
X-ORIGINAL-URL:https://mc-vic.si
X-WR-CALDESC:Events for MC Vič
REFRESH-INTERVAL;VALUE=DURATION:PT1H
X-Robots-Tag:noindex
X-PUBLISHED-TTL:PT1H
BEGIN:VTIMEZONE
TZID:Europe/Ljubljana
BEGIN:DAYLIGHT
TZOFFSETFROM:+0100
TZOFFSETTO:+0200
TZNAME:CEST
DTSTART:20250330T010000
END:DAYLIGHT
BEGIN:STANDARD
TZOFFSETFROM:+0200
TZOFFSETTO:+0100
TZNAME:CET
DTSTART:20251026T010000
END:STANDARD
BEGIN:DAYLIGHT
TZOFFSETFROM:+0100
TZOFFSETTO:+0200
TZNAME:CEST
DTSTART:20260329T010000
END:DAYLIGHT
BEGIN:STANDARD
TZOFFSETFROM:+0200
TZOFFSETTO:+0100
TZNAME:CET
DTSTART:20261025T010000
END:STANDARD
BEGIN:DAYLIGHT
TZOFFSETFROM:+0100
TZOFFSETTO:+0200
TZNAME:CEST
DTSTART:20270328T010000
END:DAYLIGHT
BEGIN:STANDARD
TZOFFSETFROM:+0200
TZOFFSETTO:+0100
TZNAME:CET
DTSTART:20271031T010000
END:STANDARD
END:VTIMEZONE
BEGIN:VEVENT
DTSTART;TZID=Europe/Ljubljana:20260429T190000
DTEND;TZID=Europe/Ljubljana:20260429T213000
DTSTAMP:20260425T042732
CREATED:20260330T114717Z
LAST-MODIFIED:20260421T195235Z
UID:20593-1777489200-1777498200@mc-vic.si
SUMMARY:Nastop brez odrskih luči - glasbena čajanka
DESCRIPTION:Gre za večer muziciranja ob čaju in grižljaju\, kjer lahko glasbeniki na nestresen način podelimo svoje trenutno ustvarjanje. Aprilska bo na sporedu v sredo\, 29. aprila\, ob 19h in nosi podnaslov Nastop brez odrskih luči. \nNa marčevski premieri smo slišal vse od Concertina za saksofon in Taylor Swift pa do izraelske narodne in slovenske popevke\, zato: \nproaktivni in rekreativni glasbeniki vseh žanrskih oznak\, pripravljeni pred glasbenimi kolegi podelit svoje trenutno ustvarjanje\, pa tudi vsi tisti\, ki raznoliko glasbo v dobri družbi raje poslušate in nagradite s kakšnim aplavzom – 29. aprila ob 19h lepo vabljeni na glasbeno druženje pri nas na Viču.
URL:https://mc-vic.si/dogodek/glasbena-cajanka-2/
LOCATION:Glasbena hiša Čonce\, Tržaška cesta 85\, Ljubljana\, 1000\, Slovenia
CATEGORIES:dogodki za mlade
ATTACH;FMTTYPE=image/jpeg:https://mc-vic.si/wp-content/uploads/2026/03/nastop-brez-odrskih-luci-glasbena-cajanka-1.jpg
ORGANIZER;CN="Mladinski center Vi%C4%8D":MAILTO:mc.vic@nefiks.si
END:VEVENT
END:VCALENDAR