BEGIN:VCALENDAR
VERSION:2.0
PRODID:-//MC Vič - ECPv6.15.20//NONSGML v1.0//EN
CALSCALE:GREGORIAN
METHOD:PUBLISH
X-WR-CALNAME:MC Vič
X-ORIGINAL-URL:https://mc-vic.si
X-WR-CALDESC:Events for MC Vič
REFRESH-INTERVAL;VALUE=DURATION:PT1H
X-Robots-Tag:noindex
X-PUBLISHED-TTL:PT1H
BEGIN:VTIMEZONE
TZID:Europe/Ljubljana
BEGIN:DAYLIGHT
TZOFFSETFROM:+0100
TZOFFSETTO:+0200
TZNAME:CEST
DTSTART:20180325T010000
END:DAYLIGHT
BEGIN:STANDARD
TZOFFSETFROM:+0200
TZOFFSETTO:+0100
TZNAME:CET
DTSTART:20181028T010000
END:STANDARD
BEGIN:DAYLIGHT
TZOFFSETFROM:+0100
TZOFFSETTO:+0200
TZNAME:CEST
DTSTART:20190331T010000
END:DAYLIGHT
BEGIN:STANDARD
TZOFFSETFROM:+0200
TZOFFSETTO:+0100
TZNAME:CET
DTSTART:20191027T010000
END:STANDARD
BEGIN:DAYLIGHT
TZOFFSETFROM:+0100
TZOFFSETTO:+0200
TZNAME:CEST
DTSTART:20200329T010000
END:DAYLIGHT
BEGIN:STANDARD
TZOFFSETFROM:+0200
TZOFFSETTO:+0100
TZNAME:CET
DTSTART:20201025T010000
END:STANDARD
END:VTIMEZONE
BEGIN:VEVENT
DTSTART;TZID=Europe/Ljubljana:20190416T190000
DTEND;TZID=Europe/Ljubljana:20190416T203000
DTSTAMP:20260425T152719
CREATED:20190411T080525Z
LAST-MODIFIED:20190411T102740Z
UID:12359-1555441200-1555446600@mc-vic.si
SUMMARY:Priprave na maturo iz matematike
DESCRIPTION:Če želiš dodatno utrditi znanje matematike\, se nam pridruži na pripravah. V MC Vič bomo vsak torek obravnavali enega izmed sklopov srednješolske matematike\, pri čemer bomo na primeru maturitetnih nalog utrjevali pravila in izreke\, ki jih moraš poznati. Če te kakšna naloga iz šole res “žuli”\, pa kar na plan z njo\, četudi ne spada v sklop. \nDanes bomo obravnavali LOGIKO\, MNOŽICE in ŠTEVILSKE MNOŽICE. \nS sabo prinesi papir\, svinčnik\, kuli in geotrikotnik\, dobrodošle pa so tudi barvice\, šestilo\, računalo ter zvezek iz matematike. \nZa več informacij nas lahko kontaktirate na mc.vic@nefiks.si ali urska.marzidovsek@nefiks.si.
URL:https://mc-vic.si/dogodek/priprave-na-maturo-iz-matematike/
LOCATION:MC Vič – Jožefova (dnevna) soba
CATEGORIES:dogodki za mlade
ORGANIZER;CN="Mladinski center Vi%C4%8D":MAILTO:mc.vic@nefiks.si
END:VEVENT
BEGIN:VEVENT
DTSTART;TZID=Europe/Ljubljana:20190413T100000
DTEND;TZID=Europe/Ljubljana:20190413T120000
DTSTAMP:20260425T152719
CREATED:20190329T163105Z
LAST-MODIFIED:20190411T102013Z
UID:12271-1555149600-1555156800@mc-vic.si
SUMMARY:Etno delavnica - Izdelava tradicionalnih butaric
DESCRIPTION:Mladinski center Vič v sodelovanju z župnijo Vič pripravlja za otroke\, starše\, bratce\, sestrice\, dedke\, babice\, tete in strice ETNO delavnice. \nDelavnice potekajo v prostorih Elizabetine avle. \nObvezne prijave: bostjan.horvat@ymail.com
URL:https://mc-vic.si/dogodek/etno-delavnica-izdelava-tradicionalnih-butaric/
LOCATION:Antonov dom – dvorana\, Tržaška 85\, Ljubljana
CATEGORIES:dogodki,dogodki za mlade,dogodki za otroke
ATTACH;FMTTYPE=image/jpeg:https://mc-vic.si/wp-content/uploads/butarice_vir-RTVSlo.jpg
END:VEVENT
BEGIN:VEVENT
DTSTART;TZID=Europe/Ljubljana:20190412T160000
DTEND;TZID=Europe/Ljubljana:20190412T173000
DTSTAMP:20260425T152719
CREATED:20190329T152448Z
LAST-MODIFIED:20190411T103613Z
UID:12257-1555084800-1555090200@mc-vic.si
SUMMARY:Klub Kolegic\, 3. srečanje
DESCRIPTION:“Sodelovanje z mentorico pri projektu Kolegice mi je odprlo vrata\, na katera si prej nisem upala niti potrkati.”\nMartina (27)\, udeleženka projekta Kolegice \nAli končuješ študij\, pa še ne veš\, kaj oz. kje boš delala potem? Si iskalka prve zaposlitve in potrebuješ nekaj pomoči pri vstopu na trg dela? \nKolegice te vabimo\, da letošnjo pomlad preživiš v naši družbi in vanj samozavestno zakorakaš skupaj z izbrano mentorico. \nVse iskalke prve zaposlitve\, študentke višjih letnikov in druge mlade posameznice\, stare do 29 let\, vabimo\, da se nam pridružite v klubu\, ki se bo v Ljubljani srečevala ob petkih od 16.00 do 17.30 v prostorih MC Vič (Tržaška cesta 85\, Ljubljana). \nNa kratko o Kolegicah\nNa Zavodu Nefiks želimo mladim ženskam − eni izmed najbolj ranljivih skupin na trgu dela − pomagati pri pridobitvi novih kariernih izkušenj. Delovanje projekta je na praktični ravni zasnovano na podlagi neposrednega pretoka znanja med starejšo uspešno žensko in mlado iskalko zaposlitve\, ki je šele na začetku svoje poti. \nPred srečanji z mentorico se skupina deklet najprej dobiva na sproščenih\, a strokovno vodenih tedenskih srečanjih\, na katerih udeleženke v družbi svojih vrstnic razvijajo svoj karierni načrt. Poleg tega skupaj načrtujejo dogodke\, s katerimi želijo širšo javnost opozoriti na problematiko zaposlovanja mladih žensk\, spodbuditi lastno zaposljivost in zaposljivost drugih žensk ter odgovorne organe pozvati k ukrepanju. \nKlub Kolegice se bo prvih šest tednov srečeval tedensko\, po šestih tednih od začetka delovanja kluba pa se boste kolegice predvidoma dobivale mesečno\, po potrebi pa pogosteje. \nNa morebitna vprašanja odgovarjamo na e-naslovu kolegice@nefiks.si. \nVeselimo se srečanja z vami! 🙂\nEkipa Kolegic\, Zavod Nefiks \nProjekt podpirata Urad za mladino Mestne občine Ljubljana in Urad Republike Slovenije za mladino.
URL:https://mc-vic.si/dogodek/klub-kolegic-3-srecanje/
LOCATION:MC Vič – Jožefova (dnevna) soba
CATEGORIES:dogodki za mlade
ATTACH;FMTTYPE=image/jpeg:https://mc-vic.si/wp-content/uploads/people-2567915_640.jpg
END:VEVENT
BEGIN:VEVENT
DTSTART;TZID=Europe/Ljubljana:20190411T190000
DTEND;TZID=Europe/Ljubljana:20190411T203000
DTSTAMP:20260425T152719
CREATED:20190328T122228Z
LAST-MODIFIED:20190411T102043Z
UID:12234-1555009200-1555014600@mc-vic.si
SUMMARY:ŠPANSKI jezikovni klub - 5. srečanje
DESCRIPTION:Jezikovni klubi so namenjeni druženju in pogovoru v tujem jeziku. Udeleženci dobijo priložnost za vajo in nadgrajevanje svojega znanja jezika. To niso tečaji\, ampak mladim omogočajo\, da se naučijo konverzacije  določenega jezika v sproščenem okolju in spoznajo državo s pomočjo rojenih govorcev. \nV klubu se boste  srečavali vsak teden najmanj 10 tednov ob istem času na istem kraju\, obravnavane teme bodo vezane na samopredstavitev/zaposlovanje/kulturo države ali druge tematike\, ki jih boste izbrali sami! \nKlub poteka po participativnem načelu\, vsak  bo imel priložnost skozi aktivno participacijo priti do znanja tujega jezika. Na vašo pobudo boste v klubu organizirali kulturno-zabavni dogodek/filmski večer/raziskovanje mesta itd. \nNe zamudi priložnosti za izboljšanje svoje karierne poti z vključitvijo v jezikovne klube Nefiks v izbranih krajih. Prijave sprejemamo do zapolnitve mest! \nPohiti in ne zamudi priložnosti za učenje tvojega najbolj priljubljenega jezika! \nPrijaviš se lahko TUKAJ.
URL:https://mc-vic.si/dogodek/spanski-jezikovni-klub-mcvic-2019-petic/
LOCATION:MC Vič – Igralnica
CATEGORIES:dogodki za mlade
ATTACH;FMTTYPE=image/jpeg:https://mc-vic.si/wp-content/uploads/MCV_jezikovni-z-Davidom_960x500.jpg
ORGANIZER;CN="Zavod Nefiks":MAILTO:nefiks@nefiks.si
END:VEVENT
BEGIN:VEVENT
DTSTART;TZID=Europe/Ljubljana:20190410T180000
DTEND;TZID=Europe/Ljubljana:20190410T200000
DTSTAMP:20260425T152719
CREATED:20190329T162110Z
LAST-MODIFIED:20190411T102057Z
UID:12268-1554919200-1554926400@mc-vic.si
SUMMARY:Etno delavnica - Izdelava okraskov iz ličja
DESCRIPTION:Mladinski center Vič v sodelovanju z župnijo Vič pripravlja za otroke\, starše\, bratce\, sestrice\, dedke\, babice\, tete in strice ETNO delavnice.  \n \nDelavnice potekajo v prostorih Elizabetine avle. \nObvezne prijave: bostjan.horvat@ymail.com
URL:https://mc-vic.si/dogodek/etno-delavnica-izdelava-okraskov-iz-licja/
LOCATION:Antonov dom – dvorana\, Tržaška 85\, Ljubljana
CATEGORIES:dogodki,dogodki za mlade,dogodki za otroke
ATTACH;FMTTYPE=image/jpeg:https://mc-vic.si/wp-content/uploads/braid-511032_640.jpg
END:VEVENT
BEGIN:VEVENT
DTSTART;TZID=Europe/Ljubljana:20190409T140000
DTEND;TZID=Europe/Ljubljana:20190409T160000
DTSTAMP:20260425T152719
CREATED:20190327T172904Z
LAST-MODIFIED:20190411T102112Z
UID:12223-1554818400-1554825600@mc-vic.si
SUMMARY:Dan za spremembe - karierno svetovanje za mlade ženske
DESCRIPTION:Dan za spremembe je letos posvečen diskriminaciji. Zavod Nefiks že deluje na področju pomoči mladim ženskam\, ki se s svojo izobrazbo pogosto ujamejo v strukturno neskladje. S projektom Kolegice gradi mostove med generacijami žensk na istem področju delovanja. \n\nV sklopu dneva za spremembe bomo organizirali karierno svetovanje za mlade ženske in sicer v MC Vič\, v torek\, 9. 4. 2019 ob 14.00 – 16.00.\nPrijave zbiramo tukaj: https://app.nefiks.si/activity/1240
URL:https://mc-vic.si/dogodek/dan-za-spremembe-karierno-svetovanje-za-mlade-zenske/
LOCATION:MC Vič – Jožefova (dnevna) soba
CATEGORIES:dogodki za mlade
ATTACH;FMTTYPE=image/jpeg:https://mc-vic.si/wp-content/uploads/brooke-lark-194253-unsplash.jpg
END:VEVENT
BEGIN:VEVENT
DTSTART;TZID=Europe/Ljubljana:20190406T090000
DTEND;TZID=Europe/Ljubljana:20190406T140000
DTSTAMP:20260425T152719
CREATED:20190405T114210Z
LAST-MODIFIED:20190411T102121Z
UID:12323-1554541200-1554559200@mc-vic.si
SUMMARY:Izberi si kos za nov videz!
DESCRIPTION:Mladinsko središče Vič v sodelovanju z Ekologi brez meja v soboto\, 6. aprila\, prirejajo dogodek Izberi si kos\, za nov videz\, za katerega so rabljena oblačila zbirali kar dva meseca. Oblačila bodo vsem obiskovalcem na voljo brezplačno\, preostanek pa bo po dogodku predan Kraljem ulice\, kjer bodo poskrbeli za njihovo nadaljnjo uporabo.  \n\n \n\nAkcijo v okviru Dan za spremembe – odpravimo diskriminacijo pripravljajo z željo osveščati otroke in mladostnike in širšo lokalno skupnost o pomenu kroženja oblačil in skrbi za okolje ter pomagati mladostnikom preseči prepričanje\, da je za urejen videz nujno potrebno veliko denarja. \nVir: FB Slovenska filantropija
URL:https://mc-vic.si/dogodek/izberi-si-kos-za-nov-videz/
CATEGORIES:dogodki,dogodki za mlade,dogodki za otroke
ATTACH;FMTTYPE=image/jpeg:https://mc-vic.si/wp-content/uploads/MS_vic_kos_za_nov_videz_naslovnica.jpg
END:VEVENT
BEGIN:VEVENT
DTSTART;TZID=Europe/Ljubljana:20190406T090000
DTEND;TZID=Europe/Ljubljana:20190406T130000
DTSTAMP:20260425T152719
CREATED:20190404T125742Z
LAST-MODIFIED:20190411T102132Z
UID:12294-1554541200-1554555600@mc-vic.si
SUMMARY:Čistilna akcija
DESCRIPTION:Četrtna skupnost Vič v okviru akcije Za lepšo Ljubljano vabi na čistilno akcijo\, ki bo v soboto\, 6. aprila 2019\, ob 9. uri. \n \nZbor udeležencev bo pred sedežem ČS Vič na Tbilisijski 22a. \nVabljeni vsi\, ki vam ni vseeno za naše okolje! \nNe pozabite na primerno obutev\, obleko\, zaščitne rokavice in dobro voljo! \nVabljeni! \nVir: www.ljubljana.si
URL:https://mc-vic.si/dogodek/cistilna-akcija/
CATEGORIES:dogodki za mlade,dogodki za otroke
ATTACH;FMTTYPE=image/jpeg:https://mc-vic.si/wp-content/uploads/Narcise-cistilna-akcija.jpg
END:VEVENT
BEGIN:VEVENT
DTSTART;TZID=Europe/Ljubljana:20190405T160000
DTEND;TZID=Europe/Ljubljana:20190405T173000
DTSTAMP:20260425T152719
CREATED:20190329T152400Z
LAST-MODIFIED:20190411T103621Z
UID:12255-1554480000-1554485400@mc-vic.si
SUMMARY:Klub Kolegic\, 2. srečanje
DESCRIPTION:“Sodelovanje z mentorico pri projektu Kolegice mi je odprlo vrata\, na katera si prej nisem upala niti potrkati.”\nMartina (27)\, udeleženka projekta Kolegice \nAli končuješ študij\, pa še ne veš\, kaj oz. kje boš delala potem? Si iskalka prve zaposlitve in potrebuješ nekaj pomoči pri vstopu na trg dela? \nKolegice te vabimo\, da letošnjo pomlad preživiš v naši družbi in vanj samozavestno zakorakaš skupaj z izbrano mentorico. \nVse iskalke prve zaposlitve\, študentke višjih letnikov in druge mlade posameznice\, stare do 29 let\, vabimo\, da se nam pridružite v klubu\, ki se bo v Ljubljani srečevala ob petkih od 16.00 do 17.30 v prostorih MC Vič (Tržaška cesta 85\, Ljubljana). \nNa kratko o Kolegicah\nNa Zavodu Nefiks želimo mladim ženskam − eni izmed najbolj ranljivih skupin na trgu dela − pomagati pri pridobitvi novih kariernih izkušenj. Delovanje projekta je na praktični ravni zasnovano na podlagi neposrednega pretoka znanja med starejšo uspešno žensko in mlado iskalko zaposlitve\, ki je šele na začetku svoje poti. \nPred srečanji z mentorico se skupina deklet najprej dobiva na sproščenih\, a strokovno vodenih tedenskih srečanjih\, na katerih udeleženke v družbi svojih vrstnic razvijajo svoj karierni načrt. Poleg tega skupaj načrtujejo dogodke\, s katerimi želijo širšo javnost opozoriti na problematiko zaposlovanja mladih žensk\, spodbuditi lastno zaposljivost in zaposljivost drugih žensk ter odgovorne organe pozvati k ukrepanju. \nKlub Kolegice se bo prvih šest tednov srečeval tedensko\, po šestih tednih od začetka delovanja kluba pa se boste kolegice predvidoma dobivale mesečno\, po potrebi pa pogosteje. \nNa morebitna vprašanja odgovarjamo na e-naslovu kolegice@nefiks.si. \nVeselimo se srečanja z vami! 🙂\nEkipa Kolegic\, Zavod Nefiks \nProjekt podpirata Urad za mladino Mestne občine Ljubljana in Urad Republike Slovenije za mladino.
URL:https://mc-vic.si/dogodek/klub-kolegic-2-srecanje/
LOCATION:MC Vič – Jožefova (dnevna) soba
CATEGORIES:dogodki za mlade
ATTACH;FMTTYPE=image/jpeg:https://mc-vic.si/wp-content/uploads/people-2567915_640.jpg
END:VEVENT
BEGIN:VEVENT
DTSTART;TZID=Europe/Ljubljana:20190404T190000
DTEND;TZID=Europe/Ljubljana:20190404T203000
DTSTAMP:20260425T152719
CREATED:20190328T121926Z
LAST-MODIFIED:20190411T102308Z
UID:12232-1554404400-1554409800@mc-vic.si
SUMMARY:ŠPANSKI jezikovni klub - 4. srečanje
DESCRIPTION:Jezikovni klubi so namenjeni druženju in pogovoru v tujem jeziku. Udeleženci dobijo priložnost za vajo in nadgrajevanje svojega znanja jezika. To niso tečaji\, ampak mladim omogočajo\, da se naučijo konverzacije  določenega jezika v sproščenem okolju in spoznajo državo s pomočjo rojenih govorcev. \nV klubu se boste  srečavali vsak teden najmanj 10 tednov ob istem času na istem kraju\, obravnavane teme bodo vezane na samopredstavitev/zaposlovanje/kulturo države ali druge tematike\, ki jih boste izbrali sami! \nKlub poteka po participativnem načelu\, vsak  bo imel priložnost skozi aktivno participacijo priti do znanja tujega jezika. Na vašo pobudo boste v klubu organizirali kulturno-zabavni dogodek/filmski večer/raziskovanje mesta itd. \nNe zamudi priložnosti za izboljšanje svoje karierne poti z vključitvijo v jezikovne klube Nefiks v izbranih krajih. Prijave sprejemamo do zapolnitve mest! \nPohiti in ne zamudi priložnosti za učenje tvojega najbolj priljubljenega jezika! \nPrijaviš se lahko TUKAJ.
URL:https://mc-vic.si/dogodek/https-mc-vic-si-dogodek-spanski-jezikovni-klub-mcvic-2019-cetrtic/
LOCATION:MC Vič – Igralnica
CATEGORIES:dogodki za mlade
ATTACH;FMTTYPE=image/jpeg:https://mc-vic.si/wp-content/uploads/MCV_jezikovni-z-Davidom_960x500.jpg
ORGANIZER;CN="Zavod Nefiks":MAILTO:nefiks@nefiks.si
END:VEVENT
BEGIN:VEVENT
DTSTART;TZID=Europe/Ljubljana:20190402T140000
DTEND;TZID=Europe/Ljubljana:20190402T160000
DTSTAMP:20260425T152719
CREATED:20190319T133450Z
LAST-MODIFIED:20190411T102323Z
UID:12162-1554213600-1554220800@mc-vic.si
SUMMARY:TVOJ karierni posvet
DESCRIPTION:Če si v dilemi glede nadaljnjega šolanja\, lahko o tem razpravljaš z usposobljenimi kariernimi svetovalci. Z njimi boš preučil/a svoje možnosti gleda na točke\, interese\, vrednote\, talente\, kraj študija\, zaposlitvene možnosti\,… \nPrijavi se vsaj en dan prej na mc.vic@gmail.com.
URL:https://mc-vic.si/dogodek/tvoj-karierni-posvet/
LOCATION:MC Vič – Jožefova (dnevna) soba
CATEGORIES:dogodki za mlade
ATTACH;FMTTYPE=image/png:https://mc-vic.si/wp-content/uploads/Nefiks_kaj-grem-študirat.png
ORGANIZER;CN="Zavod Nefiks":MAILTO:nefiks@nefiks.si
END:VEVENT
BEGIN:VEVENT
DTSTART;TZID=Europe/Ljubljana:20190329T160000
DTEND;TZID=Europe/Ljubljana:20190329T173000
DTSTAMP:20260425T152719
CREATED:20190329T152036Z
LAST-MODIFIED:20190411T103708Z
UID:12251-1553875200-1553880600@mc-vic.si
SUMMARY:Klub Kolegic\, 1. srečanje
DESCRIPTION:“Sodelovanje z mentorico pri projektu Kolegice mi je odprlo vrata\, na katera si prej nisem upala niti potrkati.”\nMartina (27)\, udeleženka projekta Kolegice \nAli končuješ študij\, pa še ne veš\, kaj oz. kje boš delala potem? Si iskalka prve zaposlitve in potrebuješ nekaj pomoči pri vstopu na trg dela? \nKolegice te vabimo\, da letošnjo pomlad preživiš v naši družbi in vanj samozavestno zakorakaš skupaj z izbrano mentorico. \nVse iskalke prve zaposlitve\, študentke višjih letnikov in druge mlade posameznice\, stare do 29 let\, vabimo\, da se nam pridružite v klubu\, ki se bo v Ljubljani srečevala ob petkih od 16.00 do 17.30 v prostorih MC Vič (Tržaška cesta 85\, Ljubljana). \nNa kratko o Kolegicah\nNa Zavodu Nefiks želimo mladim ženskam − eni izmed najbolj ranljivih skupin na trgu dela − pomagati pri pridobitvi novih kariernih izkušenj. Delovanje projekta je na praktični ravni zasnovano na podlagi neposrednega pretoka znanja med starejšo uspešno žensko in mlado iskalko zaposlitve\, ki je šele na začetku svoje poti. \nPred srečanji z mentorico se skupina deklet najprej dobiva na sproščenih\, a strokovno vodenih tedenskih srečanjih\, na katerih udeleženke v družbi svojih vrstnic razvijajo svoj karierni načrt. Poleg tega skupaj načrtujejo dogodke\, s katerimi želijo širšo javnost opozoriti na problematiko zaposlovanja mladih žensk\, spodbuditi lastno zaposljivost in zaposljivost drugih žensk ter odgovorne organe pozvati k ukrepanju. \nKlub Kolegice se bo prvih šest tednov srečeval tedensko\, po šestih tednih od začetka delovanja kluba pa se boste kolegice predvidoma dobivale mesečno\, po potrebi pa pogosteje. \nNa morebitna vprašanja odgovarjamo na e-naslovu kolegice@nefiks.si. \nVeselimo se srečanja z vami! 🙂\nEkipa Kolegic\, Zavod Nefiks \nProjekt podpirata Urad za mladino Mestne občine Ljubljana in Urad Republike Slovenije za mladino.
URL:https://mc-vic.si/dogodek/klub-kolegic-1-srecanje/
LOCATION:MC Vič – Jožefova (dnevna) soba
CATEGORIES:dogodki za mlade
ATTACH;FMTTYPE=image/jpeg:https://mc-vic.si/wp-content/uploads/people-2567915_640.jpg
END:VEVENT
BEGIN:VEVENT
DTSTART;TZID=Europe/Ljubljana:20190328T190000
DTEND;TZID=Europe/Ljubljana:20190328T203000
DTSTAMP:20260425T152719
CREATED:20190328T121249Z
LAST-MODIFIED:20190411T102540Z
UID:12230-1553799600-1553805000@mc-vic.si
SUMMARY:ŠPANSKI jezikovni klub - 3. srečanje
DESCRIPTION:Jezikovni klubi so namenjeni druženju in pogovoru v tujem jeziku. Udeleženci dobijo priložnost za vajo in nadgrajevanje svojega znanja jezika. To niso tečaji\, ampak mladim omogočajo\, da se naučijo konverzacije  določenega jezika v sproščenem okolju in spoznajo državo s pomočjo rojenih govorcev. \nV klubu se boste  srečavali vsak teden najmanj 10 tednov ob istem času na istem kraju\, obravnavane teme bodo vezane na samopredstavitev/zaposlovanje/kulturo države ali druge tematike\, ki jih boste izbrali sami! \nKlub poteka po participativnem načelu\, vsak  bo imel priložnost skozi aktivno participacijo priti do znanja tujega jezika. Na vašo pobudo boste v klubu organizirali kulturno-zabavni dogodek/filmski večer/raziskovanje mesta itd. \nNe zamudi priložnosti za izboljšanje svoje karierne poti z vključitvijo v jezikovne klube Nefiks v izbranih krajih. Prijave sprejemamo do zapolnitve mest! \nPohiti in ne zamudi priložnosti za učenje tvojega najbolj priljubljenega jezika! \nPrijaviš se lahko TUKAJ.
URL:https://mc-vic.si/dogodek/spanski-jezikovni-klub-mcvic-2019-tretjic/
LOCATION:MC Vič – Igralnica
CATEGORIES:dogodki za mlade
ATTACH;FMTTYPE=image/jpeg:https://mc-vic.si/wp-content/uploads/MCV_jezikovni-z-Davidom_960x500.jpg
ORGANIZER;CN="Zavod Nefiks":MAILTO:nefiks@nefiks.si
END:VEVENT
BEGIN:VEVENT
DTSTART;TZID=Europe/Ljubljana:20190326T150000
DTEND;TZID=Europe/Ljubljana:20190326T190000
DTSTAMP:20260425T152719
CREATED:20190316T211730Z
LAST-MODIFIED:20190411T102548Z
UID:12098-1553612400-1553626800@mc-vic.si
SUMMARY:Dan odprtih vrat
DESCRIPTION:Na ta dan bomo na široko odprli vrata in vas povabili\, da pogledate\, kaj počnemo. \nMed 15:00 in 19:00 se bomo z vami zabavali\, igrali družabne igre\, se spoznavali\, pa tudi ugotavljali\, kaj mladi na Viču potrebujejo. MC Vič želi nuditi mladim prostor sproščene\, kreativne zabave\, pa tudi prostor za uresničevanje idej in zadanih ciljev. Na ta dan pa vas predvsem vabimo\, da vi spoznate nas. \n15:00-16:00 – Pogovor “Priložnosti za mlade na Viču”. \nVabljeni!
URL:https://mc-vic.si/dogodek/dan-odprtih-vrat/
LOCATION:MC Vič – Igralnica
CATEGORIES:dogodki,dogodki za mlade,dogodki za otroke
ATTACH;FMTTYPE=image/png:https://mc-vic.si/wp-content/uploads/MCVič_2019_03_dan-odprtih-vrat_vabilo.png
ORGANIZER;CN="Mladinski center Vi%C4%8D":MAILTO:mc.vic@nefiks.si
END:VEVENT
BEGIN:VEVENT
DTSTART;TZID=Europe/Ljubljana:20190321T190000
DTEND;TZID=Europe/Ljubljana:20190321T203000
DTSTAMP:20260425T152719
CREATED:20190316T211924Z
LAST-MODIFIED:20190411T102553Z
UID:12101-1553194800-1553200200@mc-vic.si
SUMMARY:ŠPANSKI jezikovni klub
DESCRIPTION:Jezikovni klubi so namenjeni druženju in pogovoru v tujem jeziku. Udeleženci dobijo priložnost za vajo in nadgrajevanje svojega znanja jezika. To niso tečaji\, ampak mladim omogočajo\, da se naučijo konverzacije  določenega jezika v sproščenem okolju in spoznajo državo s pomočjo rojenih govorcev. \nV klubu se boste  srečavali vsak teden najmanj 10 tednov ob istem času na istem kraju\, obravnavane teme bodo vezane na samopredstavitev/zaposlovanje/kulturo države ali druge tematike\, ki jih boste izbrali sami! \nKlub poteka po participativnem načelu\, vsak  bo imel priložnost skozi aktivno participacijo priti do znanja tujega jezika. Na vašo pobudo boste v klubu organizirali kulturno-zabavni dogodek/filmski večer/raziskovanje mesta itd. \nNe zamudi priložnosti za izboljšanje svoje karierne poti z vključitvijo v jezikovne klube Nefiks v izbranih krajih. Prijave sprejemamo do zapolnitve mest! \nPohiti in ne zamudi priložnosti za učenje tvojega najbolj priljubljenega jezika! \nPrijaviš se lahko TUKAJ.
URL:https://mc-vic.si/dogodek/jezikovni-klub-spanscina/
LOCATION:MC Vič – Igralnica
CATEGORIES:dogodki za mlade
ATTACH;FMTTYPE=image/jpeg:https://mc-vic.si/wp-content/uploads/španski-jezikovni-klub_drugič.jpg
ORGANIZER;CN="Zavod Nefiks":MAILTO:nefiks@nefiks.si
END:VEVENT
BEGIN:VEVENT
DTSTART;TZID=Europe/Ljubljana:20190321T150000
DTEND;TZID=Europe/Ljubljana:20190321T170000
DTSTAMP:20260425T152719
CREATED:20190411T102603Z
LAST-MODIFIED:20190411T102603Z
UID:12165-1553180400-1553187600@mc-vic.si
SUMMARY:D.N.? N.P.!
DESCRIPTION:Imaš domačo nalogo\, pa ne veš\, kako bi se je lotil? Ali pa bi potreboval le razlago učne snovi\, ki ti dela težave? \nVsak TOREK in ČETRTEK smo v MC Vič pripravljeni\, da ti pomagamo pri tem. Le ne prinesi naloge iz jedrske fizike\, na tem področju nismo najbolj močni 🙂
URL:https://mc-vic.si/dogodek/d-n-n-p/
CATEGORIES:dogodki za mlade
END:VEVENT
END:VCALENDAR