BEGIN:VCALENDAR
VERSION:2.0
PRODID:-//MC Vič - ECPv6.15.20//NONSGML v1.0//EN
CALSCALE:GREGORIAN
METHOD:PUBLISH
X-ORIGINAL-URL:https://mc-vic.si
X-WR-CALDESC:Events for MC Vič
REFRESH-INTERVAL;VALUE=DURATION:PT1H
X-Robots-Tag:noindex
X-PUBLISHED-TTL:PT1H
BEGIN:VTIMEZONE
TZID:Europe/Ljubljana
BEGIN:DAYLIGHT
TZOFFSETFROM:+0100
TZOFFSETTO:+0200
TZNAME:CEST
DTSTART:20210328T010000
END:DAYLIGHT
BEGIN:STANDARD
TZOFFSETFROM:+0200
TZOFFSETTO:+0100
TZNAME:CET
DTSTART:20211031T010000
END:STANDARD
BEGIN:DAYLIGHT
TZOFFSETFROM:+0100
TZOFFSETTO:+0200
TZNAME:CEST
DTSTART:20220327T010000
END:DAYLIGHT
BEGIN:STANDARD
TZOFFSETFROM:+0200
TZOFFSETTO:+0100
TZNAME:CET
DTSTART:20221030T010000
END:STANDARD
BEGIN:DAYLIGHT
TZOFFSETFROM:+0100
TZOFFSETTO:+0200
TZNAME:CEST
DTSTART:20230326T010000
END:DAYLIGHT
BEGIN:STANDARD
TZOFFSETFROM:+0200
TZOFFSETTO:+0100
TZNAME:CET
DTSTART:20231029T010000
END:STANDARD
END:VTIMEZONE
BEGIN:VEVENT
DTSTART;VALUE=DATE:20220905
DTEND;VALUE=DATE:20220911
DTSTAMP:20260426T025859
CREATED:20220706T085820Z
LAST-MODIFIED:20220706T105106Z
UID:17482-1662343200-1662775199@mc-vic.si
SUMMARY:Vodja zadovoljstva zaposlenih - CHO
DESCRIPTION:Kriza današnjega časa je tudi organizacijska. Ključni izziv ni le tehnološki razvoj\, ampak tudi sprememba organizacijske kulture podjetij. Zato je potrebno ustvarjati okolje\, kjer so ljudje motivirani in pripravljeni ustvarjati več. Del spremembe organizacijske kulture leži v podjetjih in upravljanju osebne rasti in razvoja zaposlenih\, del pa na zaposlenih samih\, na njihovem vseživljenjskem učenju. \nPo drugi strani se trendu pomanjkanja primernih kadrov ni mogoče izogniti niti v panogi človeških virov. Podjetja so danes vse bolj soočena s situacijo\, da morajo za svoje zaposlene narediti več\, da jih obdržijo. V tem smislu bodo potrebovala kompetentne kadrovske strokovnjake\, ki bodo opravili to nalogo. Medtem ko je v tem trenutku na tem področju nastala praznina\, bodo morali v naslednjih letih mladi nadobudni kadrovski delavci (lahko vodja zadovoljstva zaposlenih – CHO) pridobiti praktične izkušnje za izvedbo te zahtevne naloge. \nNamen usposabljanja je informirati\, animirati in motivirati udeležence o perspektivah zaposlovanja v kadrovskih službah ter jim ponuditi osnovno usposabljanje s tega področja\, še posebej v luči poklicev prihodnosti v kadrovskih službah. \n  \nPrijavi se \n  \nSplošni cilj: \n\npridobitev temeljnih znanj s področja razvoja človeških virov.\n\nSpecifični cilji: \n\npridobitev znanj s področja zavzetosti\, dobrega počutja in srečnosti na delovnem mestu;\npridobitev znanja s področja uporabe pozitivnega psihološkega kapitala organizacije;\npridobitev znanj s področja coachinga in upravljanja sprememb.\n\n  \nVsebina: \n\nModul 1: Trg dela in blagovna znamka privlačnega delodajalca\nModul 2:  Vloga\, pomen in izzivi sodobne kadrovske službe\, poklici prihodnosti na kadrovskem področju\nModul 3: Pozitivni pristopi na delovnem mestu: pozitivna organizacijska kultura\, pozitivno vodenje\, pozitivni psihološki kapital\, pozitivna organizacijska energija\, pozitivna čustva na delovnem mestu\nModul 4:  Ključna orodja za povečanje zavzetosti\, pripadnosti in produktivnosti zaposlenih\nModul 5:  Koncept srečnosti in dobrega počutja na delovnem mestu ter upravljanje sprememb s pomočjo coachinga\n\nMetode dela: \n\nigranje vlog\ndiskusija\npredavanja\npredstavitve\nsimulacije\n\nProgram usposabljanja je oblikovan tako\, da zahteva aktivno vključevanje udeležencev\, izvajanje individualnih nalog in aktivno vključevanje v skupinske projekte oz. za delo v parih. Program omogoča dejavne oblike dela. \nUsposabljanje poteka v obliki delavnice\, ki temelji na uvodnih predavanjih\, povezovanju različnih študij primerov in dotedanjih individualnih izkušnjah udeležencev. Omenjene metode bodo nadgrajene z vajami\, oblikovanimi tako\, da bodo razvijale spretnosti\, potrebne za uspešno delo z ljudmi (igra vlog\, uporaba povratnih informacij). \nUdeleženci bodo pri vsaki vsebini seznanjeni z dodatno literaturo\, s katero bodo lahko razširili in poglobili svoje razumevanje na posameznih področjih\, skladno z individualnimi potrebami in zanimanjem. \nTrajanje programa: 35 ur\, v času od 5. 9. do 9. 9. 2022 \nIzvajalec: Franci Čeč \nCena: 60 € za študente in brezposelne in 150 € za že zaposlene. Ceno za zaposlene lahko poravna tudi podjetje. \nKomu je usposabljanje namenjeno: Usposabljanje je primerno za vse mlade\, stare med 21 in 29 let\, ki želijo dopolniti svoj nabor kompetenc\, ter za mlade\, ki so že zaposleni in bi jim znanja s področja vodenja skupin prišla prav. \nPrednost pri izboru bodo imeli mladi\, ki stopajo na trg dela in so mlajši od 30. let. \n  \n\nPRIJAVNICA\n[wpforms id=”17479″]
URL:https://mc-vic.si/dogodek/usposabljanje-za-poklice-prihodnosti-v-kadrovskih-sluzbah-direktor-za-sreco-cho/
LOCATION:MC Vič – Jožefova (dnevna) soba
CATEGORIES:dogodki
ATTACH;FMTTYPE=image/jpeg:https://mc-vic.si/wp-content/uploads/2022/07/2022-mc-vic-vodja-zadovoljstva-zaposlenih.jpg
ORGANIZER;CN="Mladinski center Vi%C4%8D":MAILTO:mc.vic@nefiks.si
END:VEVENT
BEGIN:VEVENT
DTSTART;TZID=Europe/Ljubljana:20220915T170000
DTEND;TZID=Europe/Ljubljana:20220915T183000
DTSTAMP:20260426T025859
CREATED:20220913T132233Z
LAST-MODIFIED:20220913T132319Z
UID:17651-1663261200-1663266600@mc-vic.si
SUMMARY:Delavnica: Volitve v evropski parlament
DESCRIPTION:Ej\, ali veš\, da lahko poleg predsednika države\, župana\,… voliš tudi predstavnike v evrospki parlament? Morda pa te bolj zanima\, kako vpliva Evropski parlamet na tvoje vsakdanje življenje\, kašna je njegova struktura in kaj pravzaprav počenjo predstavniki tam\, pridi na delavnico Volitve v Evropski parlament! \n\nNaslov: Volitve v Evropski parlament\nKje: MC Vič\, Tržaška cesta 85\, Ljubljana \nKdaj: 15. 9. 2022 od 17.00 dalje \n 
URL:https://mc-vic.si/dogodek/delavnica-volitve-v-evropski-parlament/
ATTACH;FMTTYPE=image/jpeg:https://mc-vic.si/wp-content/uploads/2022/08/2022_Nefiks_evropski_parlament.jpg
END:VEVENT
BEGIN:VEVENT
DTSTART;TZID=Europe/Ljubljana:20220922T160000
DTEND;TZID=Europe/Ljubljana:20220922T170000
DTSTAMP:20260426T025859
CREATED:20220914T145313Z
LAST-MODIFIED:20220914T150933Z
UID:17654-1663862400-1663866000@mc-vic.si
SUMMARY:IT jesen - V računalniku so skriti vsi izdelki!
DESCRIPTION:Naučili se bomo uporabiti računalnik za vse kar nam srce poželi. Dokazali bomo\, da so lahko računalniki zvezki\, časopis\, štoparice in še kaj več! S pomočjo Pythona bomo ustvarili štoparico\, igralno kocko in podobne majhne programe\, ki bodo združevali uporabo osnovnih programerskih znanj.\n \n\nStopnja težavnosti: OŠ-SŠ\nTehnologija: Python (beležnica/Notepad++\,Thonny)\n 
URL:https://mc-vic.si/dogodek/it-jesen-v-racunalniku-so-skriti-vsi-izdelki/
ATTACH;FMTTYPE=image/jpeg:https://mc-vic.si/wp-content/uploads/2022/09/IT-jesen-550.jpg
END:VEVENT
BEGIN:VEVENT
DTSTART;TZID=Europe/Ljubljana:20220922T190000
DTEND;TZID=Europe/Ljubljana:20220922T220000
DTSTAMP:20260426T025859
CREATED:20220908T150900Z
LAST-MODIFIED:20220908T151208Z
UID:17637-1663873200-1663884000@mc-vic.si
SUMMARY:Eu projekt - Vstopi v startup svet
DESCRIPTION:Če se vidiš v opisu\, si vabljen/-a\, da se nam pridružiš. \n\nKdaj: 22. 9. 2022\, ob 19:00\nKje: Tržaška cesta 85\, Ljubljana\n\nUrnik dogodka: \n\n19h – 20h: team building\n20h – 21h: reševanje podjetniških izzivov\n21h – 22h: mreženje z udeleženci dogodka\n\nSi želiš biti del tega dogodka? Prijavi se tukaj!
URL:https://mc-vic.si/dogodek/eu-projekt-vstopi-v-startup-svet/
LOCATION:MC Vič – Jožefova (dnevna) soba
CATEGORIES:dogodki
ATTACH;FMTTYPE=image/png:https://mc-vic.si/wp-content/uploads/2022/08/Vstopi_v_startup_svet_evropsko_leto_mladih-prikazna.png
END:VEVENT
BEGIN:VEVENT
DTSTART;TZID=Europe/Ljubljana:20220929T160000
DTEND;TZID=Europe/Ljubljana:20220929T170000
DTSTAMP:20260426T025859
CREATED:20220914T145605Z
LAST-MODIFIED:20220914T150847Z
UID:17656-1664467200-1664470800@mc-vic.si
SUMMARY:IT jesen - Namesto čopiča uporabi Openscad!
DESCRIPTION: \nČaka nas poučen tečaj 3D modeliranja s programiranjem. S pomočjo matematike in ustvarjalnosti bomo na programerski način ustvarjali 3D modele s pomočjo odprtokodnega okolja Openscad. Ustvarili bomo telesa različnih oblik in od bližje spoznali 3D prostor.\n\n \n\n\nStopnja težavnosti: OŠ-SŠ\nTehnologija: Openscad\n \n\n\n 
URL:https://mc-vic.si/dogodek/it-jesen-namesto-copica-uporabi-openscad/
ATTACH;FMTTYPE=image/jpeg:https://mc-vic.si/wp-content/uploads/2022/09/IT-jesen-550.jpg
END:VEVENT
END:VCALENDAR