BEGIN:VCALENDAR
VERSION:2.0
PRODID:-//MC Vič - ECPv6.15.20//NONSGML v1.0//EN
CALSCALE:GREGORIAN
METHOD:PUBLISH
X-WR-CALNAME:MC Vič
X-ORIGINAL-URL:https://mc-vic.si
X-WR-CALDESC:Events for MC Vič
REFRESH-INTERVAL;VALUE=DURATION:PT1H
X-Robots-Tag:noindex
X-PUBLISHED-TTL:PT1H
BEGIN:VTIMEZONE
TZID:Europe/Ljubljana
BEGIN:DAYLIGHT
TZOFFSETFROM:+0100
TZOFFSETTO:+0200
TZNAME:CEST
DTSTART:20230326T010000
END:DAYLIGHT
BEGIN:STANDARD
TZOFFSETFROM:+0200
TZOFFSETTO:+0100
TZNAME:CET
DTSTART:20231029T010000
END:STANDARD
BEGIN:DAYLIGHT
TZOFFSETFROM:+0100
TZOFFSETTO:+0200
TZNAME:CEST
DTSTART:20240331T010000
END:DAYLIGHT
BEGIN:STANDARD
TZOFFSETFROM:+0200
TZOFFSETTO:+0100
TZNAME:CET
DTSTART:20241027T010000
END:STANDARD
BEGIN:DAYLIGHT
TZOFFSETFROM:+0100
TZOFFSETTO:+0200
TZNAME:CEST
DTSTART:20250330T010000
END:DAYLIGHT
BEGIN:STANDARD
TZOFFSETFROM:+0200
TZOFFSETTO:+0100
TZNAME:CET
DTSTART:20251026T010000
END:STANDARD
END:VTIMEZONE
BEGIN:VEVENT
DTSTART;TZID=Europe/Ljubljana:20240913T190000
DTEND;TZID=Europe/Ljubljana:20240913T220000
DTSTAMP:20260424T153523
CREATED:20240828T062302Z
LAST-MODIFIED:20240828T062823Z
UID:19592-1726254000-1726264800@mc-vic.si
SUMMARY:Septembra se ptički tudi ženijo
DESCRIPTION:13. septembra se bodo ptički spet ženili. Zato Mladinski center Vič vabi samske med 20. in 40. letom starosti na prijetno druženje. Srečanje bomo tokrat preživeli ob glasbi in prijetnem plesu v parih ter igranju družabnih iger. Z nami bo tudi plesna učiteljica\, ki bo udeležence naučila nekaj korakov. \n \nDogodek je namenjen samskim\, zato ne skrbite\, če nimate plesnega para ali družbe za igranje družabnih iger. Plesni pari se bodo tekom večera menjavali\, zato boste imeli možnost\, da spoznate osebe nasprotnega spola\, spoznavanje pa bo možno tudi ob družabnih igrah.  \nKDO? Samski med 20. in 40. letom starosti\nKDAJ? V petek\, 13. 9. 2024\, ob 19.00\nKJE? Velika dvorana Antonovega doma na Viču\, Tržaška 85 \nPROGRAM:\n19.00–21.00   Plesna delavnica\, druženje in spoznavanje ob plesu\n21.00–22.00   Ples in druženje ob prigrizkih \nIzpolni prijavnico in se prijavi čim prej. Tvoja udeležba bo zagotovljena s poravnanim simboličnim prispevkom 5 €. Najkasneje v dveh delovnih dneh oz. najkasneje dan pred dogodkom boste z naše strani prejeli položnico\, ki jo prosim poravnajte v roku dveh delovnih dni. V primeru neudeležbe prispevka ne vračamo\, lahko si pa poiščete zamenjavo. Na voljo je 30 prostih mest za moške in 30 za ženske. Potem sledi čakalna lista. \n[wpforms id=”19596″]
URL:https://mc-vic.si/dogodek/septembra-se-pticki-tudi-zenijo/
LOCATION:Antonov dom – dvorana\, Tržaška 85\, Ljubljana
CATEGORIES:dogodki,dogodki za mlade
ATTACH;FMTTYPE=image/png:https://mc-vic.si/wp-content/uploads/2024/08/2024-pticki-septembra-se-pticki-tudi-zenijo.png
ORGANIZER;CN="Mladinski center Vi%C4%8D":MAILTO:mc.vic@nefiks.si
END:VEVENT
BEGIN:VEVENT
DTSTART;TZID=Europe/Ljubljana:20240918T180000
DTEND;TZID=Europe/Ljubljana:20240918T190000
DTSTAMP:20260424T153523
CREATED:20240911T184027Z
LAST-MODIFIED:20240912T085822Z
UID:19645-1726682400-1726686000@mc-vic.si
SUMMARY:Mladinska izmenjava - kaj je to?
DESCRIPTION:Vabljeni na predstavitev izkušnje mladinske izmenjave\, na katero smo se odpravili mladi iz MC Vič.\nSpoznali boste različne igre\, ki se jih igrajo mladi iz Španije\, Portugalske in Italije\, se posladkali s prigrizki in vmes izvedeli kako in kje je potekala naša mladinska izmenjava\, kaj smo se tam naučili\, pozabili pa ne bomo niti na fotografije!\n \nKDAJ? V sredo 18. 9. 2024 od 18.00 do 19.00\nKJE? Na ploščadi pred Mladinskim centrom Vič\n \n \n 
URL:https://mc-vic.si/dogodek/mladinska-izmenjava-kaj-je-to/
LOCATION:Mc Vič – ploščad\, Tržaška 85\, Ljubljana\, Slovenija
CATEGORIES:dogodki,dogodki za mlade
ATTACH;FMTTYPE=image/jpeg:https://mc-vic.si/wp-content/uploads/2024/09/FB-2024-08-28_13-33-23-547.jpg
ORGANIZER;CN="Mladinski center Vi%C4%8D":MAILTO:mc.vic@nefiks.si
END:VEVENT
END:VCALENDAR