BEGIN:VCALENDAR
VERSION:2.0
PRODID:-//MC Vič - ECPv6.15.20//NONSGML v1.0//EN
CALSCALE:GREGORIAN
METHOD:PUBLISH
X-WR-CALNAME:MC Vič
X-ORIGINAL-URL:https://mc-vic.si
X-WR-CALDESC:Events for MC Vič
REFRESH-INTERVAL;VALUE=DURATION:PT1H
X-Robots-Tag:noindex
X-PUBLISHED-TTL:PT1H
BEGIN:VTIMEZONE
TZID:Europe/Ljubljana
BEGIN:DAYLIGHT
TZOFFSETFROM:+0100
TZOFFSETTO:+0200
TZNAME:CEST
DTSTART:20230326T010000
END:DAYLIGHT
BEGIN:STANDARD
TZOFFSETFROM:+0200
TZOFFSETTO:+0100
TZNAME:CET
DTSTART:20231029T010000
END:STANDARD
BEGIN:DAYLIGHT
TZOFFSETFROM:+0100
TZOFFSETTO:+0200
TZNAME:CEST
DTSTART:20240331T010000
END:DAYLIGHT
BEGIN:STANDARD
TZOFFSETFROM:+0200
TZOFFSETTO:+0100
TZNAME:CET
DTSTART:20241027T010000
END:STANDARD
BEGIN:DAYLIGHT
TZOFFSETFROM:+0100
TZOFFSETTO:+0200
TZNAME:CEST
DTSTART:20250330T010000
END:DAYLIGHT
BEGIN:STANDARD
TZOFFSETFROM:+0200
TZOFFSETTO:+0100
TZNAME:CET
DTSTART:20251026T010000
END:STANDARD
END:VTIMEZONE
BEGIN:VEVENT
DTSTART;TZID=Europe/Ljubljana:20241018T190000
DTEND;TZID=Europe/Ljubljana:20241018T235500
DTSTAMP:20260424T140700
CREATED:20240719T114853Z
LAST-MODIFIED:20240826T143840Z
UID:19501-1729278000-1729295700@mc-vic.si
SUMMARY:Pod zvezdnimi utrinki se ptički ženijo
DESCRIPTION:Mreža mladinskih centrov Ljubljana napoveduje drugo Noč mladinskih centrov. Ob tej priložnosti vabi Mladinski center Vič samske med 18. in 29. letom starosti na prijetno druženje. Srečanje bomo tokrat preživeli ob glasbi in prijetnem plesu v parih ter igranju družabnih iger. Z nami bo tudi plesna učiteljica\, ki bo udeležence naučila nekaj korakov. \n \nDogodek je namenjen samskim\, zato ne skrbite\, če nimate plesnega partnerja. Plesni pari se bodo tekom večera menjavali\, zato boste imeli možnost\, da spoznate osebe nasprotnega spola\, spoznavanje pa bo možno tudi ob družabnih igrah.  \nKDO? Samski med 18. in 29. letom starosti\nKDAJ? V petek\, 18. 10. 2024\, ob 19.00\nKJE? Velika dvorana Antonovega doma na Viču\, Tržaška 85 \nPROGRAM:\n19.00–21.00 – Plesna delavnica\, druženje in spoznavanje ob plesu\n21.00–24.00 – Ples in druženje ob prigrizkih \nIzpolni prijavnico in se prijavi čim prej. Tvoja udeležba bo zagotovljena s poravnanim simboličnim prispevkom 5 €. Najkasneje v dveh delovnih dneh oz. najkasneje dan pred dogodkom boste z naše strani prejeli položnico\, ki jo prosim poravnajte v roku dveh delovnih dni. V primeru neudeležbe prispevka ne vračamo\, lahko si pa poiščete zamenjavo. Na voljo je 30 prostih mest za moške in 30 za ženske. Potem sledi čakalna lista. \n[wpforms id=”19494″]
URL:https://mc-vic.si/dogodek/pod-zvezdnimi-utrinki-se-pticki-zenijo/
LOCATION:Antonov dom – dvorana\, Tržaška 85\, Ljubljana
CATEGORIES:dogodki,dogodki za mlade
ATTACH;FMTTYPE=image/png:https://mc-vic.si/wp-content/uploads/2024/08/2024-NocMC-za-objave-FB-400px.png
ORGANIZER;CN="Mladinski center Vi%C4%8D":MAILTO:mc.vic@nefiks.si
END:VEVENT
END:VCALENDAR