BEGIN:VCALENDAR
VERSION:2.0
PRODID:-//MC Vič - ECPv6.15.20//NONSGML v1.0//EN
CALSCALE:GREGORIAN
METHOD:PUBLISH
X-ORIGINAL-URL:https://mc-vic.si
X-WR-CALDESC:Events for MC Vič
REFRESH-INTERVAL;VALUE=DURATION:PT1H
X-Robots-Tag:noindex
X-PUBLISHED-TTL:PT1H
BEGIN:VTIMEZONE
TZID:Europe/Ljubljana
BEGIN:DAYLIGHT
TZOFFSETFROM:+0100
TZOFFSETTO:+0200
TZNAME:CEST
DTSTART:20230326T010000
END:DAYLIGHT
BEGIN:STANDARD
TZOFFSETFROM:+0200
TZOFFSETTO:+0100
TZNAME:CET
DTSTART:20231029T010000
END:STANDARD
BEGIN:DAYLIGHT
TZOFFSETFROM:+0100
TZOFFSETTO:+0200
TZNAME:CEST
DTSTART:20240331T010000
END:DAYLIGHT
BEGIN:STANDARD
TZOFFSETFROM:+0200
TZOFFSETTO:+0100
TZNAME:CET
DTSTART:20241027T010000
END:STANDARD
BEGIN:DAYLIGHT
TZOFFSETFROM:+0100
TZOFFSETTO:+0200
TZNAME:CEST
DTSTART:20250330T010000
END:DAYLIGHT
BEGIN:STANDARD
TZOFFSETFROM:+0200
TZOFFSETTO:+0100
TZNAME:CET
DTSTART:20251026T010000
END:STANDARD
END:VTIMEZONE
BEGIN:VEVENT
DTSTART;TZID=Europe/Ljubljana:20241104T090000
DTEND;TZID=Europe/Ljubljana:20241109T140000
DTSTAMP:20260424T123607
CREATED:20241018T092525Z
LAST-MODIFIED:20241018T100031Z
UID:19857-1730710800-1731160800@mc-vic.si
SUMMARY:DigiA - Upravljaj z družabnimi omrežji in bodi ustvarjalec vsebin
DESCRIPTION:Pridruži se nam v programu usposabljanja “Upravljanje z družbenimi omrežji in ustvarjanje vsebin“\, kjer bomo skupaj raziskovali svet digitalnega ustvarjanja! \nVsebine: \n\nSocial Media Manager: Pridobi kompetence informacijske in podatkovne pismenosti\, komunikacije\, in sodelovanja. Spoznaj pravila spletnega bontona\, moderiranja komentarjev\, ter osvoji veščine učinkovitega upravljanja družbenih omrežij.\nUstvarjanje vsebin (Content Creation): spoznaj kako učinkovito kreirati vsebine za družabna omrežja\, uspešno nagovarjati pravo občinstvo in doseči cilje. Uporabljali bomo različna orodja za pripravo\, distribucijo\, spremljanje vsebin in analizo podatkov na družabnih omrežjih in platformah.\nPraktično delo – Izdelava različnih vsebin in priprava mini kampanje za distribucijo na spletu in družabnih omrežjih.\nPredstavitev Izdelkov: Na zadnjem srečanju predstavi svoje stvaritve in se pohvali s svojim napredkom!\n\nČe si želiš razvijati spretnosti v upravljanju družbenih omrežij\, ustvarjanju vsebin\, in deliti svoje ideje\, je ta program kot nalašč zate! Prijavi se zdaj in skupaj bomo ustvarjali digitalno prihodnost! \nUsposabljanje bo potekalo v Mladinskem centru Vič v naslednjih terminih: \n\n4. 11. 2024 od 9.00 do 14.00 (6 ur)\n5. 11. 2024 od 16.00 do 19.00 (4 ure)\n8. 11. 2024 od 9.00 do 14.00 (6 ur)\n9.11. 2024 od 9.00 do 14.00 (6 ur)\n\nNa usposabljanju je potrebna 80 % udeležba. \nZ nami bo predavateljica Zala Bricelj\, digitalna strateginja in specialistka za uporabo sodobnih tehnologij za nastop na splet in družabna omrežja. Pripravlja strategije za učinkovite spletne nastope\, načrtuje uporabniške izkušnje in upravlja družabna omrežja. Izvaja Erasmus+ projekte in poučuje nove generacije managerjev družabnih omrežjih. V sodelovanju s Safe.si\, MISSS in Zavodom PIP izvaja delavnice in predavanja varne rabe interneta in sodobne tehnologije. Vir: Priročnik za upravljanje družabnih omrežij avtorice Zale Bricelj. \n  \n[wpforms id=”19861″]
URL:https://mc-vic.si/dogodek/digia-upravljaj-z-druzabnimi-omrezji-in-bodi-ustvarjalec-vsebin/
LOCATION:MC Vič – Jožefova (dnevna) soba
CATEGORIES:dogodki za mlade
ATTACH;FMTTYPE=image/png:https://mc-vic.si/wp-content/uploads/2024/10/DigiA-social-media-workshops-1.png
ORGANIZER;CN="Mladinski center Vi%C4%8D":MAILTO:mc.vic@nefiks.si
END:VEVENT
END:VCALENDAR